BEGIN:VCALENDAR
VERSION:2.0
PRODID:-//wp-events-plugin.com//7.2.3.1//EN
BEGIN:VEVENT
UID:7831@visitlebanonky.com
DTSTART;TZID=America/Kentucky/Louisville:20250816T000000
DTEND;TZID=America/Kentucky/Louisville:20250816T000000
DTSTAMP:20250730T171523Z
URL:https://visitlebanonky.com/events/st-augustine-5k-faith-in-motion-5k-r
 un-walk/
SUMMARY:St. Augustine 5K Faith in Motion 5K Run/ Walk
DESCRIPTION:St. Augustine School Faith in Motion 5K Run/Walk presented by F
 aster Way with Loren Mattingly. Get ready to lace up your running shoes an
 d hit the pavement at the first annual Faith in Motion 5K! Whether you're 
 a seasoned runner or just looking for a fun way to stay active\, this race
  is perfect for all ages and fitness levels. \nRace info and sign up https
 ://runsignup.com/Race/KY/Lebanon/Stafaithinmotion5k There is even a virtua
 l race.\n\nSt. Augustine School Faith in Motion 5K Run/Walk\n$20\n9:00AM E
 DT\n-\n10:00AM EDT\nRegistration ends August 16\, 2025 at 8:30am EDT\n\nSt
 . Augustine Faith in Motion 5K VIRTUAL EDITION\n$15\n12:00AM EDT\n-\n10:30
 AM EDT\nRegistration ends August 16\, 2025 at 10:30am EDT\n\nSt. Augustine
  School Faith in Motion Fun Run (St. Augustine Preschool / Kindergarten st
 udents only)\n$15\n9:00AM EDT\n-\n10:00AM EDT\nRegistration ends August 16
 \, 2025 at 10:30am EDT\n\nSt. Augustine School Faith in Motion 5K Run/Walk
  (St. Augustine 1st - 8th Grade students only)\n$20\n9:00AM EDT\n-\n10:30A
 M EDT\nRegistration ends August 16\, 2025 at 10:30am EDT
ATTACH;FMTTYPE=image/jpeg:https://visitlebanonky.com/wp-content/uploads/20
 25/07/st-a.jpg
CATEGORIES:Official
LOCATION:Saint Augustine School\, 236 S Spalding Ave\, Lebanon\, Kentucky\,
  40033\, Marion County\, United States
GEO:37.568309;-85.251856
X-APPLE-STRUCTURED-LOCATION;VALUE=URI;X-ADDRESS=236 S Spalding Ave\, Lebano
 n\, Kentucky\, 40033\, Marion County\, United States;X-APPLE-RADIUS=100;X-
 TITLE=Saint Augustine School:geo:37.568309,-85.251856
END:VEVENT
BEGIN:VTIMEZONE
TZID:America/Kentucky/Louisville
X-LIC-LOCATION:America/Kentucky/Louisville
BEGIN:DAYLIGHT
DTSTART:20250309T030000
TZOFFSETFROM:-0500
TZOFFSETTO:-0400
TZNAME:EDT
END:DAYLIGHT
END:VTIMEZONE
END:VCALENDAR