BEGIN:VCALENDAR
VERSION:2.0
PRODID:-//wp-events-plugin.com//7.2.3.1//EN
BEGIN:VEVENT
UID:9157@visitlebanonky.com
DTSTART;TZID=America/Kentucky/Louisville:20260420T180000
DTEND;TZID=America/Kentucky/Louisville:20260420T190000
DTSTAMP:20260401T193319Z
URL:https://visitlebanonky.com/events/st-augustine-school-open-house/
SUMMARY:St. Augustine School Open House
DESCRIPTION:🌟 OPEN HOUSE at St. Augustine School 🌟\nCurious about St.
  Augustine? Come see the difference for yourself!\n📅 April 20th\n⏰ 6:
 00–7:00 PM\n📍 St. Augustine School (PreK–8th) 236 S Spalding Ave\, 
 Lebanon\, KY 40033\nJoin us to:\n• Tour our school\n• Meet our dedicat
 ed teachers\n• Learn about our academic and faith-based programs\n• Ex
 plore opportunities available for your child\n🍧 Kona Ice will be availa
 ble for all attendees!\nSt. Augustine offers:\n• Small class sizes\n• 
 Individualized attention\n• Strong academic foundation\n• Faith-center
 ed education\n• Affordable tuition options\nWe welcome all families in t
 he community to come learn more about what St. Augustine has to offer. You
  can find the school on Facebook HERE
ATTACH;FMTTYPE=image/jpeg:https://visitlebanonky.com/wp-content/uploads/20
 26/04/ST-A-OPEN-HOUSE.jpg
CATEGORIES:Community
LOCATION:St. Augustine Catholic School\, 236 S Spalding Ave\, Lebanon\, Ken
 tucky\, 40033\, Marion County\, United States
GEO:37.568309;-85.251856
X-APPLE-STRUCTURED-LOCATION;VALUE=URI;X-ADDRESS=236 S Spalding Ave\, Lebano
 n\, Kentucky\, 40033\, Marion County\, United States;X-APPLE-RADIUS=100;X-
 TITLE=St. Augustine Catholic School:geo:37.568309,-85.251856
END:VEVENT
BEGIN:VTIMEZONE
TZID:America/Kentucky/Louisville
X-LIC-LOCATION:America/Kentucky/Louisville
BEGIN:DAYLIGHT
DTSTART:20260308T030000
TZOFFSETFROM:-0500
TZOFFSETTO:-0400
TZNAME:EDT
END:DAYLIGHT
END:VTIMEZONE
END:VCALENDAR