BEGIN:VCALENDAR
VERSION:2.0
PRODID:-//wp-events-plugin.com//7.2.3.1//EN
BEGIN:VEVENT
UID:7632@visitlebanonky.com
DTSTART;TZID=America/Kentucky/Louisville:20250607T160000
DTEND;TZID=America/Kentucky/Louisville:20250607T200000
DTSTAMP:20250529T050727Z
URL:https://visitlebanonky.com/events/st-charles-parish-picnic/
SUMMARY:St. Charles Parish Picnic
DESCRIPTION:
ATTACH;FMTTYPE=image/jpeg:https://visitlebanonky.com/wp-content/uploads/20
 25/05/st-charles-e1748495200771.jpg
CATEGORIES:Official
LOCATION:St. Charles Catholic Church\, 675 Highway 327\, Lebanon\, Kentucky
 \, 40033\, Marion County\, United States
GEO:37.594439;-85.343667
X-APPLE-STRUCTURED-LOCATION;VALUE=URI;X-ADDRESS=675 Highway 327\, Lebanon\,
  Kentucky\, 40033\, Marion County\, United States;X-APPLE-RADIUS=100;X-TIT
 LE=St. Charles Catholic Church:geo:37.594439,-85.343667
END:VEVENT
BEGIN:VTIMEZONE
TZID:America/Kentucky/Louisville
X-LIC-LOCATION:America/Kentucky/Louisville
BEGIN:DAYLIGHT
DTSTART:20250309T030000
TZOFFSETFROM:-0500
TZOFFSETTO:-0400
TZNAME:EDT
END:DAYLIGHT
END:VTIMEZONE
END:VCALENDAR