BEGIN:VCALENDAR
VERSION:2.0
PRODID:-//wp-events-plugin.com//7.2.3.1//EN
BEGIN:VEVENT
UID:8858@visitlebanonky.com
DTSTART;TZID=America/Kentucky/Louisville:20260418T160000
DTEND;TZID=America/Kentucky/Louisville:20260418T200000
DTSTAMP:20260212T032719Z
URL:https://visitlebanonky.com/events/st-francis-xavier-spring-social/
SUMMARY:St. Francis Xavier Spring Social
DESCRIPTION:Get ready folks! Our Spring Social is on the way. We will be ha
 ving our famous chicken and country ham supper\, raffle off two (yes two) 
 Stihl chain saws\, a 50/50 raffle\, sell chances for the Sew-Cialize Club'
 s UK quilt (given away on May 17)\, a sweets booth\, kids booth\, and a si
 lent auction. You can follow the church for this and other events on Faceb
 ook HERE
ATTACH;FMTTYPE=image/jpeg:https://visitlebanonky.com/wp-content/uploads/20
 26/02/st-francis-xavier.jpg
CATEGORIES:Community
LOCATION:St Francis Xavier Parish Hall\, 108 Main St.\, Raywick\, KY\, 4006
 0\, Marion County\, United States
X-APPLE-STRUCTURED-LOCATION;VALUE=URI;X-ADDRESS=108 Main St.\, Raywick\, KY
 \, 40060\, Marion County\, United States;X-APPLE-RADIUS=100;X-TITLE=St Fra
 ncis Xavier Parish Hall:geo:0,0
END:VEVENT
BEGIN:VTIMEZONE
TZID:America/Kentucky/Louisville
X-LIC-LOCATION:America/Kentucky/Louisville
BEGIN:DAYLIGHT
DTSTART:20260308T030000
TZOFFSETFROM:-0500
TZOFFSETTO:-0400
TZNAME:EDT
END:DAYLIGHT
END:VTIMEZONE
END:VCALENDAR