BEGIN:VCALENDAR
VERSION:2.0
PRODID:-//wp-events-plugin.com//7.2.3.1//EN
BEGIN:VEVENT
UID:5347@visitlebanonky.com
DTSTART;TZID=America/Kentucky/Louisville:20240216T130000
DTEND;TZID=America/Kentucky/Louisville:20240329T140000
DTSTAMP:20240214T052218Z
URL:https://visitlebanonky.com/event-recurring/st-joseph-catholic-communit
 y-heritage-stations-of-the-cross/
SUMMARY:St. Joseph Catholic Community Heritage Stations of the Cross
DESCRIPTION:St. Joseph Catholic Community Heritage will be hosting our 7th 
 annual Stations of the Cross each Friday at 1 p.m. at the St. Joseph Churc
 h during Lent. Take the 55 minute journey of the Passion of Jesus through 
 Prayer\, Song\, and Meditation with Dana &amp\; Fr. Kevin Scallion’s rec
 orded composition of the Station of the Cross. Mark your calendar and come
  out and join us ✝️
ATTACH;FMTTYPE=image/jpeg:https://visitlebanonky.com/wp-content/uploads/20
 24/02/the-stations-of-the-cross.jpg
CATEGORIES:Community
LOCATION:St. Joe Church\, 3300 St. Joe Rd.\, Raywick\, Kentucky\, 40060\, M
 arion County\, United States
X-APPLE-STRUCTURED-LOCATION;VALUE=URI;X-ADDRESS=3300 St. Joe Rd.\, Raywick\
 , Kentucky\, 40060\, Marion County\, United States;X-APPLE-RADIUS=100;X-TI
 TLE=St. Joe Church:geo:0,0
END:VEVENT
BEGIN:VTIMEZONE
TZID:America/Kentucky/Louisville
X-LIC-LOCATION:America/Kentucky/Louisville
BEGIN:STANDARD
DTSTART:20231105T010000
TZOFFSETFROM:-0400
TZOFFSETTO:-0500
TZNAME:EST
END:STANDARD
BEGIN:DAYLIGHT
DTSTART:20240310T030000
TZOFFSETFROM:-0500
TZOFFSETTO:-0400
TZNAME:EDT
END:DAYLIGHT
END:VTIMEZONE
END:VCALENDAR