BEGIN:VCALENDAR
VERSION:2.0
PRODID:-//wp-events-plugin.com//7.2.3.1//EN
BEGIN:VEVENT
UID:8862@visitlebanonky.com
DTSTART;TZID=America/Kentucky/Louisville:20260211T000000
DTEND;TZID=America/Kentucky/Louisville:20260530T000000
DTSTAMP:20260226T202159Z
URL:https://visitlebanonky.com/events/stars-stripes-and-250-candles-youth-
 performance-camp-registration-open-now/
SUMMARY:Stars\, Stripes and 250 Candles- Youth Performance Camp - Registrat
 ion Open Now
DESCRIPTION:Follow on Facebook HERE \n\n🎭✨ NOW OPEN FOR REGISTRATION 
 – SPRING & SUMMER CAMPS! ✨🎭\nWe’re thrilled to announce that regi
 stration is officially open for our upcoming youth and teen theatre progra
 ms! 🎉\nStars\, Stripes & 250 Candles\nA fun-filled youth camp celebrati
 ng America’s 250th birthday!\n👧 Ages 5–10\n📅 June 8–13 OR July
  27–August 1\n⏰ 9:00 AM–3:00 PM\n💵 $200 per student\n \nSpots are
  limited and camps fill quickly—don’t wait!\n📲 Visit our website HE
 RE to register today!\n 
ATTACH;FMTTYPE=image/jpeg:https://visitlebanonky.com/wp-content/uploads/20
 26/02/250-candles.jpg
CATEGORIES:Community
LOCATION:Kentucky Classic ARTS at Centre Square\, 237 North Spalding Avenue
 \, Lebanon\, KY\, 40033\, United States
X-APPLE-STRUCTURED-LOCATION;VALUE=URI;X-ADDRESS=237 North Spalding Avenue\,
  Lebanon\, KY\, 40033\, United States;X-APPLE-RADIUS=100;X-TITLE=Kentucky 
 Classic ARTS at Centre Square:geo:0,0
END:VEVENT
BEGIN:VTIMEZONE
TZID:America/Kentucky/Louisville
X-LIC-LOCATION:America/Kentucky/Louisville
BEGIN:STANDARD
DTSTART:20251102T010000
TZOFFSETFROM:-0400
TZOFFSETTO:-0500
TZNAME:EST
END:STANDARD
BEGIN:DAYLIGHT
DTSTART:20260308T030000
TZOFFSETFROM:-0500
TZOFFSETTO:-0400
TZNAME:EDT
END:DAYLIGHT
END:VTIMEZONE
END:VCALENDAR