BEGIN:VCALENDAR
VERSION:2.0
PRODID:-//wp-events-plugin.com//7.2.3.1//EN
BEGIN:VEVENT
UID:8447@visitlebanonky.com
DTSTART;TZID=America/Kentucky/Louisville:20251220T140000
DTEND;TZID=America/Kentucky/Louisville:20251220T170000
DTSTAMP:20251209T024221Z
URL:https://visitlebanonky.com/events/stocking-stuff/
SUMMARY:Stocking Stuff
DESCRIPTION:December 20 it’s open to anyone it’s a time to come togethe
 r and give back to so please join us. Adults please join us and if you got
  grandkids\, nieces\, etc. bring them or just come yourself. Food\, gifts\
 , craft\, music etc. We are still taking donations for candy\, hotdogs\, b
 uns\, and drinks. Follow the event on Facebook HERE
ATTACH;FMTTYPE=image/jpeg:https://visitlebanonky.com/wp-content/uploads/20
 25/12/stocking.jpg
CATEGORIES:Community
LOCATION:Centre Square\, 237 N Spalding Ave\, Lebanon\, KY/Marion\, 40033\,
  United States
X-APPLE-STRUCTURED-LOCATION;VALUE=URI;X-ADDRESS=237 N Spalding Ave\, Lebano
 n\, KY/Marion\, 40033\, United States;X-APPLE-RADIUS=100;X-TITLE=Centre Sq
 uare:geo:0,0
END:VEVENT
BEGIN:VTIMEZONE
TZID:America/Kentucky/Louisville
X-LIC-LOCATION:America/Kentucky/Louisville
BEGIN:STANDARD
DTSTART:20251102T010000
TZOFFSETFROM:-0400
TZOFFSETTO:-0500
TZNAME:EST
END:STANDARD
END:VTIMEZONE
END:VCALENDAR