BEGIN:VCALENDAR
VERSION:2.0
PRODID:-//wp-events-plugin.com//7.2.3.1//EN
BEGIN:VEVENT
UID:7639@visitlebanonky.com
DTSTART;TZID=America/Kentucky/Louisville:20250529T000000
DTEND;TZID=America/Kentucky/Louisville:20250602T000000
DTSTAMP:20250529T053847Z
URL:https://visitlebanonky.com/events/summer-sports-performance-program-si
 gn-ups-open/
SUMMARY:Summer Sports Performance Program - Sign Ups Open
DESCRIPTION:🚨 It’s Official! 🚨\nOur Summer Sports Performance Progr
 am is live and ready for registration!\nI’m beyond excited to give athle
 tes in our community the chance to get faster\, stronger\, and more confid
 ent heading into their season. This is your opportunity to train smart and
  get ahead.\n💥 Limited spots available – don’t wait!\n📲 Register
  now: https://forms.gle/ywsLYCxZAx51JFDS8\n🔥 Early Bird Special: Sign u
 p by Wednesday and lock in the discounted rate of $100!\nGot questions? Me
 ssage James Clements on Facebook at https://www.facebook.com/james.clement
 s.98 or Steven or Shelly Peterson — we’d love to help you get started!
ATTACH;FMTTYPE=image/jpeg:https://visitlebanonky.com/wp-content/uploads/20
 25/05/summer-sports.jpg
CATEGORIES:Community
LOCATION:3-Thirty-3 Leave No Doubt CrossFit\, 333 Old Springfield Hwy\, Leb
 anon\, Kentucky\, 40033\, Marion County\, United States
GEO:37.591707;-85.250554
X-APPLE-STRUCTURED-LOCATION;VALUE=URI;X-ADDRESS=333 Old Springfield Hwy\, L
 ebanon\, Kentucky\, 40033\, Marion County\, United States;X-APPLE-RADIUS=1
 00;X-TITLE=3-Thirty-3 Leave No Doubt CrossFit:geo:37.591707,-85.250554
END:VEVENT
BEGIN:VTIMEZONE
TZID:America/Kentucky/Louisville
X-LIC-LOCATION:America/Kentucky/Louisville
BEGIN:DAYLIGHT
DTSTART:20250309T030000
TZOFFSETFROM:-0500
TZOFFSETTO:-0400
TZNAME:EDT
END:DAYLIGHT
END:VTIMEZONE
END:VCALENDAR