BEGIN:VCALENDAR
VERSION:2.0
PRODID:-//wp-events-plugin.com//7.2.3.1//EN
BEGIN:VEVENT
UID:8372@visitlebanonky.com
DTSTART;TZID=America/Kentucky/Louisville:20260108T120000
DTEND;TZID=America/Kentucky/Louisville:20260108T130000
DTSTAMP:20251201T171923Z
URL:https://visitlebanonky.com/events/svh-infusion-clinic-ribbon-cutting/
SUMMARY:SVH Infusion Clinic Ribbon Cutting
DESCRIPTION:
ATTACH;FMTTYPE=image/jpeg:https://visitlebanonky.com/wp-content/uploads/20
 25/12/svh.png
CATEGORIES:Community
LOCATION:Spring View Hospital\, 320 Loretto Road\, Lebanon\, KY/Marion\, 40
 033\, Marion County\, United States
X-APPLE-STRUCTURED-LOCATION;VALUE=URI;X-ADDRESS=320 Loretto Road\, Lebanon\
 , KY/Marion\, 40033\, Marion County\, United States;X-APPLE-RADIUS=100;X-T
 ITLE=Spring View Hospital:geo:0,0
END:VEVENT
BEGIN:VTIMEZONE
TZID:America/Kentucky/Louisville
X-LIC-LOCATION:America/Kentucky/Louisville
BEGIN:STANDARD
DTSTART:20251102T010000
TZOFFSETFROM:-0400
TZOFFSETTO:-0500
TZNAME:EST
END:STANDARD
END:VTIMEZONE
END:VCALENDAR