BEGIN:VCALENDAR
VERSION:2.0
PRODID:-//wp-events-plugin.com//7.2.3.1//EN
BEGIN:VEVENT
UID:6330@visitlebanonky.com
DTSTART:20241101T000000Z
DTEND:20241102T000000Z
DTSTAMP:20241022T233502Z
URL:https://visitlebanonky.com/events/sweet-tees-boutique-christmas-open-h
 ouse/
SUMMARY:Sweet Tees Boutique Christmas Open House
DESCRIPTION:From the event page on Facebook at https://www.facebook.com/eve
 nts/1754310971774901\n\n“WHEN YOU SUPPORT A SMALL BUSINESS\, YOU ARE SUP
 PORTING A DREAM”\n🎄It’s the most wonderful time of the year!\n🛍
 ️This is the time of the year to support local small businesses!\n‼️
 Sweet Tees Boutique will be having sales and giveaways all weekend!\n🛍
 ️Be sure to stop by and see us!\n🩷We will also be in the heart of S. 
 Spalding winter festival so come downtown and support all the local small 
 businesses coming together to make the best of open house!
ATTACH;FMTTYPE=image/jpeg:https://visitlebanonky.com/wp-content/uploads/20
 24/10/sweet.jpg
CATEGORIES:Community
LOCATION:Sweet Tees Boutique\, 115 South Spalding Avenue\, Lebanon\, Kentuc
 ky\, 40033\, Marion County\, United States
GEO:37.565462;-85.249593
X-APPLE-STRUCTURED-LOCATION;VALUE=URI;X-ADDRESS=115 South Spalding Avenue\,
  Lebanon\, Kentucky\, 40033\, Marion County\, United States;X-APPLE-RADIUS
 =100;X-TITLE=Sweet Tees Boutique:geo:37.565462,-85.249593
END:VEVENT
END:VCALENDAR