BEGIN:VCALENDAR
VERSION:2.0
PRODID:-//wp-events-plugin.com//7.2.3.1//EN
BEGIN:VEVENT
UID:8869@visitlebanonky.com
DTSTART;TZID=America/Kentucky/Louisville:20260214T080000
DTEND;TZID=America/Kentucky/Louisville:20260214T120000
DTSTAMP:20260212T044209Z
URL:https://visitlebanonky.com/events/sweetheart-breakfast/
SUMMARY:Sweetheart Breakfast
DESCRIPTION:Gravel Switch friends 💘\nWe’re hosting a Sweetheart Breakf
 ast at Gravel Switch Station\n📅 Saturday\, February 14\n⏰ 8:00 AM –
  12:00 PM\nA portion of the proceeds will benefit the Gravel Switch Fire D
 epartment 🚒❤️\nWhether you dine in or grab breakfast to go\, come s
 upport a great cause and celebrate Valentine’s weekend with us 💕\nFol
 low on Facebook HERE
ATTACH;FMTTYPE=image/jpeg:https://visitlebanonky.com/wp-content/uploads/20
 26/02/gs.jpg
CATEGORIES:Community
LOCATION:Gravel Switch Station Restaurant\, 880 Gravel Switch Road\, Gravel
  Switch\, Kentucky\, 40328\, Marion County\, United States
GEO:37.578995;-85.052251
X-APPLE-STRUCTURED-LOCATION;VALUE=URI;X-ADDRESS=880 Gravel Switch Road\, Gr
 avel Switch\, Kentucky\, 40328\, Marion County\, United States;X-APPLE-RAD
 IUS=100;X-TITLE=Gravel Switch Station Restaurant:geo:37.578995,-85.052251
END:VEVENT
BEGIN:VTIMEZONE
TZID:America/Kentucky/Louisville
X-LIC-LOCATION:America/Kentucky/Louisville
BEGIN:STANDARD
DTSTART:20251102T010000
TZOFFSETFROM:-0400
TZOFFSETTO:-0500
TZNAME:EST
END:STANDARD
END:VTIMEZONE
END:VCALENDAR