BEGIN:VCALENDAR
VERSION:2.0
PRODID:-//wp-events-plugin.com//7.2.3.1//EN
BEGIN:VEVENT
UID:9199@visitlebanonky.com
DTSTART;TZID=America/Kentucky/Louisville:20260427T183000
DTEND;TZID=America/Kentucky/Louisville:20260427T193000
DTSTAMP:20260417T200110Z
URL:https://visitlebanonky.com/events/teaching-cosplay-at-the-marion-count
 y-public-library/
SUMMARY:Teaching Cosplay at the Marion County Public Library
DESCRIPTION:This is an interest form for cosplayers and artists who would l
 ike to volunteer to help us teach newbies what cosplay and costuming is al
 l about! You can tell us about the world of cosplay through your specialty
 ! We need all sorts of specialties\, so please consider volunteering your 
 time to teach! We will have an interest/planning meeting on April 27th at 
 6:30 p.m. at Marion County Public Library.\nSign up HERE\nhttps://docs.goo
 gle.com/.../1FAIpQLSdvy3qHqyh.../viewform...\n\nFor complete details on th
 ings happening at the library:\nFollow on Facebook HERE  \nSign up for the
  emailed newsletter HERE   \n 
ATTACH;FMTTYPE=image/jpeg:https://visitlebanonky.com/wp-content/uploads/20
 26/04/COSPLAY.jpg
CATEGORIES:Community
LOCATION:Marion County Public Library\, 201 E. Main Street\, Lebanon\, KY/M
 arion\, 40033\, Marion County\, United States
X-APPLE-STRUCTURED-LOCATION;VALUE=URI;X-ADDRESS=201 E. Main Street\, Lebano
 n\, KY/Marion\, 40033\, Marion County\, United States;X-APPLE-RADIUS=100;X
 -TITLE=Marion County Public Library:geo:0,0
END:VEVENT
BEGIN:VTIMEZONE
TZID:America/Kentucky/Louisville
X-LIC-LOCATION:America/Kentucky/Louisville
BEGIN:DAYLIGHT
DTSTART:20260308T030000
TZOFFSETFROM:-0500
TZOFFSETTO:-0400
TZNAME:EDT
END:DAYLIGHT
END:VTIMEZONE
END:VCALENDAR