BEGIN:VCALENDAR
VERSION:2.0
PRODID:-//wp-events-plugin.com//7.2.3.1//EN
BEGIN:VEVENT
UID:8329@visitlebanonky.com
DTSTART;TZID=America/Kentucky/Louisville:20251214T150000
DTEND;TZID=America/Kentucky/Louisville:20251214T163000
DTSTAMP:20251114T013658Z
URL:https://visitlebanonky.com/events/the-beautiful-music-of-christmas-2/
SUMMARY:The Beautiful Music of Christmas
DESCRIPTION:The Beautiful Music of Christmas is back!\nCheck out the dates 
 and locations and make your plans and reservations soon.\nYou can follow o
 n Facebook HERE
ATTACH;FMTTYPE=image/jpeg:https://visitlebanonky.com/wp-content/uploads/20
 25/11/MID-KY-CHORUS.jpg
CATEGORIES:Community
LOCATION:St Catharine Hall\, 2645 Bardstown Rd\, Springfield\, Kentucky\, 4
 0069\, Washington County\, United States
GEO:37.691007;-85.233052
X-APPLE-STRUCTURED-LOCATION;VALUE=URI;X-ADDRESS=2645 Bardstown Rd\, Springf
 ield\, Kentucky\, 40069\, Washington County\, United States;X-APPLE-RADIUS
 =100;X-TITLE=St Catharine Hall:geo:37.691007,-85.233052
END:VEVENT
BEGIN:VTIMEZONE
TZID:America/Kentucky/Louisville
X-LIC-LOCATION:America/Kentucky/Louisville
BEGIN:STANDARD
DTSTART:20251102T010000
TZOFFSETFROM:-0400
TZOFFSETTO:-0500
TZNAME:EST
END:STANDARD
END:VTIMEZONE
END:VCALENDAR