BEGIN:VCALENDAR
VERSION:2.0
PRODID:-//wp-events-plugin.com//7.2.3.1//EN
BEGIN:VEVENT
UID:8330@visitlebanonky.com
DTSTART;TZID=America/Kentucky/Louisville:20251207T150000
DTEND;TZID=America/Kentucky/Louisville:20251207T163000
DTSTAMP:20251114T013827Z
URL:https://visitlebanonky.com/events/the-beautiful-music-of-christmas-3/
SUMMARY:The Beautiful Music of Christmas
DESCRIPTION:The Beautiful Music of Christmas is back!\nCheck out the dates 
 and locations and make your plans and reservations soon.\nYou can follow o
 n Facebook HERE
ATTACH;FMTTYPE=image/jpeg:https://visitlebanonky.com/wp-content/uploads/20
 25/11/MID-KY-CHORUS.jpg
CATEGORIES:Community
LOCATION:St. Augustine Catholic Church\, 235 S. Spalding Ave.\, Lebanon\, K
 Y/Marion\, 40033\, Marion County\, United States
X-APPLE-STRUCTURED-LOCATION;VALUE=URI;X-ADDRESS=235 S. Spalding Ave.\, Leba
 non\, KY/Marion\, 40033\, Marion County\, United States;X-APPLE-RADIUS=100
 ;X-TITLE=St. Augustine Catholic Church:geo:0,0
END:VEVENT
BEGIN:VTIMEZONE
TZID:America/Kentucky/Louisville
X-LIC-LOCATION:America/Kentucky/Louisville
BEGIN:STANDARD
DTSTART:20251102T010000
TZOFFSETFROM:-0400
TZOFFSETTO:-0500
TZNAME:EST
END:STANDARD
END:VTIMEZONE
END:VCALENDAR