BEGIN:VCALENDAR
VERSION:2.0
PRODID:-//wp-events-plugin.com//7.2.3.1//EN
BEGIN:VEVENT
UID:7558@visitlebanonky.com
DTSTART;TZID=America/Kentucky/Louisville:20250503T193000
DTEND;TZID=America/Kentucky/Louisville:20250503T230000
DTSTAMP:20250427T235243Z
URL:https://visitlebanonky.com/events/the-checkmates-at-venue-68/
SUMMARY:The Checkmates at Venue 68
DESCRIPTION:The Checkmates\, admission will be available for $20 at the doo
 r starting at 7:30 p.m. \n\nLooking for a great Derby Party? Join The Chec
 kmates in beautiful Marion County at the Marion Co. Chamber sponsored Derb
 y on Main event! Races available on big screen TV at Venue 68. Food\, drin
 k and great music by The fabulous Checkmates. Music starts at 7:30 p.m. Co
 me on out and bring those dancing shoes to groove to your favorite oldies.
  A fantastic day is in store from start To finish!!
ATTACH;FMTTYPE=image/jpeg:https://visitlebanonky.com/wp-content/uploads/20
 25/04/checkmates.jpg
CATEGORIES:Official
LOCATION:Venue 68\, 212 W Main St\, Lebanon\, KY/Marion\, 40033\, United St
 ates
X-APPLE-STRUCTURED-LOCATION;VALUE=URI;X-ADDRESS=212 W Main St\, Lebanon\, K
 Y/Marion\, 40033\, United States;X-APPLE-RADIUS=100;X-TITLE=Venue 68:geo:0
 ,0
END:VEVENT
BEGIN:VTIMEZONE
TZID:America/Kentucky/Louisville
X-LIC-LOCATION:America/Kentucky/Louisville
BEGIN:DAYLIGHT
DTSTART:20250309T030000
TZOFFSETFROM:-0500
TZOFFSETTO:-0400
TZNAME:EDT
END:DAYLIGHT
END:VTIMEZONE
END:VCALENDAR