BEGIN:VCALENDAR
VERSION:2.0
PRODID:-//wp-events-plugin.com//7.2.3.1//EN
BEGIN:VEVENT
UID:7580@visitlebanonky.com
DTSTART;TZID=America/Kentucky/Louisville:20250712T100000
DTEND;TZID=America/Kentucky/Louisville:20250712T140000
DTSTAMP:20250710T012330Z
URL:https://visitlebanonky.com/events/the-cozy-loft-cheers-to-four-years-a
 nniversary/
SUMMARY:The Cozy Loft "Cheers To Four Years" Anniversary
DESCRIPTION:You can follow the event page on Facebook at https://www.facebo
 ok.com/share/1TZLcnA8vk/\nJoin us 7/12 10:00-2:00 for our FOUR year celebr
 ation!\nSnacks\, Fun\, Sales & More!\nStay tuned! •We always have someth
 ing special up our sleeve•\n116 Cemetery Road\nLebanon\, KY 40033
ATTACH;FMTTYPE=image/jpeg:https://visitlebanonky.com/wp-content/uploads/20
 25/05/cozy-loft-e1746665316198.jpg
CATEGORIES:Official
LOCATION:The Cozy Loft Boutique\, 116 Cemetery Road Suite 2\, Lebanon\, Ken
 tucky\, 40033\, Marion County\, United States
GEO:37.5569;-85.272394
X-APPLE-STRUCTURED-LOCATION;VALUE=URI;X-ADDRESS=116 Cemetery Road Suite 2\,
  Lebanon\, Kentucky\, 40033\, Marion County\, United States;X-APPLE-RADIUS
 =100;X-TITLE=The Cozy Loft Boutique:geo:37.5569,-85.272394
END:VEVENT
BEGIN:VTIMEZONE
TZID:America/Kentucky/Louisville
X-LIC-LOCATION:America/Kentucky/Louisville
BEGIN:DAYLIGHT
DTSTART:20250309T030000
TZOFFSETFROM:-0500
TZOFFSETTO:-0400
TZNAME:EDT
END:DAYLIGHT
END:VTIMEZONE
END:VCALENDAR