BEGIN:VCALENDAR
VERSION:2.0
PRODID:-//wp-events-plugin.com//7.2.3.1//EN
BEGIN:VEVENT
UID:6310@visitlebanonky.com
DTSTART;TZID=America/Kentucky/Louisville;VALUE=DATE:20241101
DTEND;TZID=America/Kentucky/Louisville;VALUE=DATE:20241103
DTSTAMP:20241021T022030Z
URL:https://visitlebanonky.com/events/the-cozy-loft-christmas-open-house/
SUMMARY:The Cozy Loft Christmas Open House
DESCRIPTION:From their Facebook event page at https://www.facebook.com/even
 ts/509104708642852/?ref=newsfeed\nMark your calendars now❄️✨💙☃
 ️\nYou do not want to miss our CHRISTMAS open house! Biggest one yet❄
 ️\nWe have so many surprises in store for you!\n11/1 10:00-8:00\n11/2 9:
 00-3:00\n116 Cemetery Road\nLebanon\, KY 40033\n 
ATTACH;FMTTYPE=image/jpeg:https://visitlebanonky.com/wp-content/uploads/20
 24/10/cozy-loft-Christmas.jpg
CATEGORIES:Community
LOCATION:The Cozy Loft Boutique\, 116 Cemetery Road Suite 2\, Lebanon\, Ken
 tucky\, 40033\, Marion County\, United States
GEO:37.5569;-85.272394
X-APPLE-STRUCTURED-LOCATION;VALUE=URI;X-ADDRESS=116 Cemetery Road Suite 2\,
  Lebanon\, Kentucky\, 40033\, Marion County\, United States;X-APPLE-RADIUS
 =100;X-TITLE=The Cozy Loft Boutique:geo:37.5569,-85.272394
END:VEVENT
BEGIN:VTIMEZONE
TZID:America/Kentucky/Louisville
X-LIC-LOCATION:America/Kentucky/Louisville
BEGIN:DAYLIGHT
DTSTART:20240310T030000
TZOFFSETFROM:-0500
TZOFFSETTO:-0400
TZNAME:EDT
END:DAYLIGHT
END:VTIMEZONE
END:VCALENDAR