BEGIN:VCALENDAR
VERSION:2.0
PRODID:-//wp-events-plugin.com//7.2.3.1//EN
BEGIN:VEVENT
UID:9164@visitlebanonky.com
DTSTART;TZID=America/Kentucky/Louisville:20260425T190000
DTEND;TZID=America/Kentucky/Louisville:20260425T230000
DTSTAMP:20260401T210745Z
URL:https://visitlebanonky.com/events/the-crashers-at-venue-68-4/
SUMMARY:The Crashers at Venue 68
DESCRIPTION:Join us for a night you don’t want to miss! Doors will open a
 t 7:00 pm and the show starts at 9:00 pm! Full bar available. Tickets are 
 $45. Tickets can be purchased on our website HERE or at the door the night
  of the show. You can find this event on Facebook HERE
ATTACH;FMTTYPE=image/jpeg:https://visitlebanonky.com/wp-content/uploads/20
 25/09/crashers.jpg
CATEGORIES:Community
LOCATION:Venue 68  parking lot\, 212 W. Main St.\, Lebanon\, KY/Marion\, 40
 033\, Marion County\, United States
X-APPLE-STRUCTURED-LOCATION;VALUE=URI;X-ADDRESS=212 W. Main St.\, Lebanon\,
  KY/Marion\, 40033\, Marion County\, United States;X-APPLE-RADIUS=100;X-TI
 TLE=Venue 68  parking lot:geo:0,0
END:VEVENT
BEGIN:VTIMEZONE
TZID:America/Kentucky/Louisville
X-LIC-LOCATION:America/Kentucky/Louisville
BEGIN:DAYLIGHT
DTSTART:20260308T030000
TZOFFSETFROM:-0500
TZOFFSETTO:-0400
TZNAME:EDT
END:DAYLIGHT
END:VTIMEZONE
END:VCALENDAR