BEGIN:VCALENDAR
VERSION:2.0
PRODID:-//wp-events-plugin.com//7.2.3.1//EN
BEGIN:VEVENT
UID:8176@visitlebanonky.com
DTSTART;TZID=America/Kentucky/Louisville:20251128T173000
DTEND;TZID=America/Kentucky/Louisville:20251128T190000
DTSTAMP:20251105T060024Z
URL:https://visitlebanonky.com/events/the-dickens-christmas-chili-cook-off
 /
SUMMARY:The Dickens Christmas Chili Cook-Off
DESCRIPTION:🎄The Dickens Christmas Chili Cook-Off is BACK and better tha
 n ever!🎄\n📅 Friday\, November 28\n🕠 5:30 PM – 7:00 PM\n📍 Far
 mers National Bank Courtyard\n🍲 FREE ENTRY!\nThink your chili has what 
 it takes to be the best in Marion County? Bring two 18-quart cookers of yo
 ur best chili and find out!\n💵 NEW for 2025 – Cash Prizes!\n🥇 1st 
 Place: $300\n🥈 2nd Place: $150\n🥉 3rd Place: $75\nA huge thank you t
 o Visit Lebanon KY and Marion County Economic Development for helping make
  this year’s event possible!\nInterested in joining the fun?\n📞 Conta
 ct Aubri at the Chamber office\n📧 info@marioncountykychamber.com \n☎
 ️ 270-692-9594\n\nFollow the Marion County Chamber of Commerce on Facebo
 ok HERE or check out their website HERE
ATTACH;FMTTYPE=image/jpeg:https://visitlebanonky.com/wp-content/uploads/20
 25/10/chili-cookoff.jpg
CATEGORIES:Official
LOCATION:Farmers National Bank Court Yard\, 136 W Main St\, Lebanon\, Kentu
 cky\, 40033\, Marion County\, United States
GEO:37.569447;-85.25377
X-APPLE-STRUCTURED-LOCATION;VALUE=URI;X-ADDRESS=136 W Main St\, Lebanon\, K
 entucky\, 40033\, Marion County\, United States;X-APPLE-RADIUS=100;X-TITLE
 =Farmers National Bank Court Yard:geo:37.569447,-85.25377
END:VEVENT
BEGIN:VTIMEZONE
TZID:America/Kentucky/Louisville
X-LIC-LOCATION:America/Kentucky/Louisville
BEGIN:STANDARD
DTSTART:20251102T010000
TZOFFSETFROM:-0400
TZOFFSETTO:-0500
TZNAME:EST
END:STANDARD
END:VTIMEZONE
END:VCALENDAR