BEGIN:VCALENDAR
VERSION:2.0
PRODID:-//wp-events-plugin.com//7.2.3.1//EN
BEGIN:VEVENT
UID:9056@visitlebanonky.com
DTSTART;TZID=America/Kentucky/Louisville:20260516T180000
DTEND;TZID=America/Kentucky/Louisville:20260516T210000
DTSTAMP:20260317T043639Z
URL:https://visitlebanonky.com/events/the-first-oath-exhibition/
SUMMARY:The First Oath Exhibition
DESCRIPTION:You can find this event on Facebook HERE or follow the Bradford
 sville School Community Building on Facebook HERE\nThe First Oath\nA Curat
 ed Art Exhibition\nOn May 16\, 2026\, Phantom Oath Ink & Art will host a c
 urated art exhibition inside the historic Old Bradfordsville School in Bra
 dfordsville\, Kentucky.\nThe First Oath will feature nine artists connecte
 d to Marion County\, selected through a structured review process. Mediums
  include painting\, graphite\, ink\, photography\, and small-scale sculptu
 re.\nThis is not a vendor market or craft fair. It is an intentionally com
 posed exhibition designed to spotlight the creative presence within our co
 unty and activate a historic space with purpose.\nEstimated attendance: 10
 0–150 guests\nIndoor event | Light refreshments provided\nSemi-formal en
 couraged\nArtwork will not be sold on site\; however\, guests may inquire 
 with artists at their discretion.\nJoin us as we gather artists into one r
 oom — not to compete\, but to be seen. 
ATTACH;FMTTYPE=image/jpeg:https://visitlebanonky.com/wp-content/uploads/20
 26/03/phantom-oak-ink.jpg
CATEGORIES:Community
LOCATION:Bradfordsville School Community Building\, 115 South 6th Street\, 
 Bradfordsville\, Kentucky\, 40009\, Marion County\, United States
GEO:37.134566;-85.955016
X-APPLE-STRUCTURED-LOCATION;VALUE=URI;X-ADDRESS=115 South 6th Street\, Brad
 fordsville\, Kentucky\, 40009\, Marion County\, United States;X-APPLE-RADI
 US=100;X-TITLE=Bradfordsville School Community Building:geo:37.134566,-85.
 955016
END:VEVENT
BEGIN:VTIMEZONE
TZID:America/Kentucky/Louisville
X-LIC-LOCATION:America/Kentucky/Louisville
BEGIN:DAYLIGHT
DTSTART:20260308T030000
TZOFFSETFROM:-0500
TZOFFSETTO:-0400
TZNAME:EDT
END:DAYLIGHT
END:VTIMEZONE
END:VCALENDAR