BEGIN:VCALENDAR
VERSION:2.0
PRODID:-//wp-events-plugin.com//7.2.3.1//EN
BEGIN:VEVENT
UID:9135@visitlebanonky.com
DTSTART;TZID=America/Kentucky/Louisville:20260708T193000
DTEND;TZID=America/Kentucky/Louisville:20260708T213000
DTSTAMP:20260327T165954Z
URL:https://visitlebanonky.com/events/the-great-smoke-out-at-the-mc-fair/
SUMMARY:The Great Smoke-Out at the MC Fair
DESCRIPTION:This will be a event that raises money for all fire departments
  within Marion County: Lebanon Fire & Rescue\, Loretto Fire Deptartment 39
 3\, Raywick Fire Department\, Bradfordsville Fire Department\, & Gravel Sw
 itch Fire Department. Cars\, trucks\, motorcycles & anything with wheels t
 hat want to "Smoke-out" are welcome. All proceeds of this event will be sp
 lit amongst Marion County Departments. 1st and 2nd place trophies will be 
 sponsored by a fire department in each category.  \n\nEnding time listed i
 s an estimate only. When an event does not list an ending time and estimat
 e is made.
ATTACH;FMTTYPE=image/jpeg:https://visitlebanonky.com/wp-content/uploads/20
 26/03/the-great-smokeout.jpg
CATEGORIES:Official
LOCATION:Marion County Fairgrounds\, 700 Fairgrounds Road\, Lebanon\, Kentu
 cky\, 40033\, Marion County\, United States
GEO:37.563672;-85.238002
X-APPLE-STRUCTURED-LOCATION;VALUE=URI;X-ADDRESS=700 Fairgrounds Road\, Leba
 non\, Kentucky\, 40033\, Marion County\, United States;X-APPLE-RADIUS=100;
 X-TITLE=Marion County Fairgrounds:geo:37.563672,-85.238002
END:VEVENT
BEGIN:VTIMEZONE
TZID:America/Kentucky/Louisville
X-LIC-LOCATION:America/Kentucky/Louisville
BEGIN:DAYLIGHT
DTSTART:20260308T030000
TZOFFSETFROM:-0500
TZOFFSETTO:-0400
TZNAME:EDT
END:DAYLIGHT
END:VTIMEZONE
END:VCALENDAR