BEGIN:VCALENDAR
VERSION:2.0
PRODID:-//wp-events-plugin.com//7.2.3.1//EN
BEGIN:VEVENT
UID:8694@visitlebanonky.com
DTSTART;TZID=America/Kentucky/Louisville:20260228T130000
DTEND;TZID=America/Kentucky/Louisville:20260228T160000
DTSTAMP:20260202T230729Z
URL:https://visitlebanonky.com/events/the-guiding-light-black-history-mont
 h-event/
SUMMARY:The Guiding Light Black History Month Event
DESCRIPTION:
ATTACH;FMTTYPE=image/jpeg:https://visitlebanonky.com/wp-content/uploads/20
 26/02/black-history-elegant.jpg
CATEGORIES:Community
LOCATION:Marion County Event Center and Sportsplex\, 101 Independence Drive
  \, LEBANON\, KY\, 40033\, Marion County\, United States
X-APPLE-STRUCTURED-LOCATION;VALUE=URI;X-ADDRESS=101 Independence Drive \, L
 EBANON\, KY\, 40033\, Marion County\, United States;X-APPLE-RADIUS=100;X-T
 ITLE=Marion County Event Center and Sportsplex:geo:0,0
END:VEVENT
BEGIN:VTIMEZONE
TZID:America/Kentucky/Louisville
X-LIC-LOCATION:America/Kentucky/Louisville
BEGIN:STANDARD
DTSTART:20251102T010000
TZOFFSETFROM:-0400
TZOFFSETTO:-0500
TZNAME:EST
END:STANDARD
END:VTIMEZONE
END:VCALENDAR