BEGIN:VCALENDAR
VERSION:2.0
PRODID:-//wp-events-plugin.com//7.2.3.1//EN
BEGIN:VEVENT
UID:8177@visitlebanonky.com
DTSTART;TZID=America/Kentucky/Louisville:20261017T100000
DTEND;TZID=America/Kentucky/Louisville:20261017T180000
DTSTAMP:20260324T170717Z
URL:https://visitlebanonky.com/events/the-heart-of-kentucky-comic-con/
SUMMARY:The Heart of Kentucky Comic Con
DESCRIPTION:Come celebrate your favorite fandom with us at Heart of Kentuck
 y Comic Con! We will have vendors\, kids activities\, free-to-play board g
 ames\, a cosplay contest\, and more!\nFollow us on Facebook HERE
ATTACH;FMTTYPE=image/jpeg:https://visitlebanonky.com/wp-content/uploads/20
 25/10/comic-con.jpg
CATEGORIES:Official
LOCATION:Marion County Event Center and Sportsplex\, 101 Independence Drive
  \, LEBANON\, KY\, 40033\, Marion County\, United States
X-APPLE-STRUCTURED-LOCATION;VALUE=URI;X-ADDRESS=101 Independence Drive \, L
 EBANON\, KY\, 40033\, Marion County\, United States;X-APPLE-RADIUS=100;X-T
 ITLE=Marion County Event Center and Sportsplex:geo:0,0
END:VEVENT
BEGIN:VTIMEZONE
TZID:America/Kentucky/Louisville
X-LIC-LOCATION:America/Kentucky/Louisville
BEGIN:DAYLIGHT
DTSTART:20260308T030000
TZOFFSETFROM:-0500
TZOFFSETTO:-0400
TZNAME:EDT
END:DAYLIGHT
END:VTIMEZONE
END:VCALENDAR