BEGIN:VCALENDAR
VERSION:2.0
PRODID:-//wp-events-plugin.com//7.2.3.1//EN
BEGIN:VEVENT
UID:5953@visitlebanonky.com
DTSTART;TZID=America/Kentucky/Louisville:20240821T090000
DTEND;TZID=America/Kentucky/Louisville:20240821T180000
DTSTAMP:20240729T204912Z
URL:https://visitlebanonky.com/events/the-holistic-hippie-festival-kids-zo
 ne/
SUMMARY:The Holistic Hippie Festival Kids Zone
DESCRIPTION:
ATTACH;FMTTYPE=image/jpeg:https://visitlebanonky.com/wp-content/uploads/20
 24/07/holistic-hippie.jpg
CATEGORIES:Community
LOCATION:Loretto City Park\, School Drive\, Loretto\, KY\, 40037\, Marion C
 ounty\, United States
X-APPLE-STRUCTURED-LOCATION;VALUE=URI;X-ADDRESS=School Drive\, Loretto\, KY
 \, 40037\, Marion County\, United States;X-APPLE-RADIUS=100;X-TITLE=Lorett
 o City Park:geo:0,0
END:VEVENT
BEGIN:VTIMEZONE
TZID:America/Kentucky/Louisville
X-LIC-LOCATION:America/Kentucky/Louisville
BEGIN:DAYLIGHT
DTSTART:20240310T030000
TZOFFSETFROM:-0500
TZOFFSETTO:-0400
TZNAME:EDT
END:DAYLIGHT
END:VTIMEZONE
END:VCALENDAR