BEGIN:VCALENDAR
VERSION:2.0
PRODID:-//wp-events-plugin.com//7.2.3.1//EN
BEGIN:VEVENT
UID:5945@visitlebanonky.com
DTSTART;TZID=America/Kentucky/Louisville:20240821T090000
DTEND;TZID=America/Kentucky/Louisville:20240821T210000
DTSTAMP:20240725T055131Z
URL:https://visitlebanonky.com/events/the-holistic-hippie-festival/
SUMMARY:The Holistic Hippie Festival
DESCRIPTION:
ATTACH;FMTTYPE=image/jpeg:https://visitlebanonky.com/wp-content/uploads/20
 24/07/Holistic-festival.jpg
CATEGORIES:Community
LOCATION:Loretto City Hall\, 72 School Drive\, Loretto\, Kentucky\, 40037\,
  Marion County\, United States
GEO:37.63671;-85.405202
X-APPLE-STRUCTURED-LOCATION;VALUE=URI;X-ADDRESS=72 School Drive\, Loretto\,
  Kentucky\, 40037\, Marion County\, United States;X-APPLE-RADIUS=100;X-TIT
 LE=Loretto City Hall:geo:37.63671,-85.405202
END:VEVENT
BEGIN:VTIMEZONE
TZID:America/Kentucky/Louisville
X-LIC-LOCATION:America/Kentucky/Louisville
BEGIN:DAYLIGHT
DTSTART:20240310T030000
TZOFFSETFROM:-0500
TZOFFSETTO:-0400
TZNAME:EDT
END:DAYLIGHT
END:VTIMEZONE
END:VCALENDAR