BEGIN:VCALENDAR
VERSION:2.0
PRODID:-//wp-events-plugin.com//7.2.3.1//EN
BEGIN:VEVENT
UID:6589@visitlebanonky.com
DTSTART;TZID=America/Kentucky/Louisville:20241208T180000
DTEND;TZID=America/Kentucky/Louisville:20241208T193000
DTSTAMP:20241207T032830Z
URL:https://visitlebanonky.com/events/the-sounding-joy-christmas-musical/
SUMMARY:The Sounding Joy Christmas Musical
DESCRIPTION:We invite you to come be touched by our Muldraugh Hill Baptist 
 Worship Choir as they present the Christmas musical "The Sounding Joy."  C
 ome help us celebrate this Christmas season thru our choir\,  media\, narr
 ation\, along with our children singing and a live manger scene! \nHelp us
  spread the Joy of our Emmanuel this Christmas Season! Make plans now for 
 this Sunday\, December 8th at 6:00pm!!!\nGo on!! Mark your calendar!!\nSee
  you Sunday!! 
ATTACH;FMTTYPE=image/jpeg:https://visitlebanonky.com/wp-content/uploads/20
 24/12/mul-hill.jpg
CATEGORIES:Community
LOCATION:Muldraugh Hill Baptist Church\, 4430 Highway 289\, Lebanon\, Kentu
 cky\, 40033\, Marion County\, United States
GEO:37.474947;-85.329265
X-APPLE-STRUCTURED-LOCATION;VALUE=URI;X-ADDRESS=4430 Highway 289\, Lebanon\
 , Kentucky\, 40033\, Marion County\, United States;X-APPLE-RADIUS=100;X-TI
 TLE=Muldraugh Hill Baptist Church:geo:37.474947,-85.329265
END:VEVENT
BEGIN:VTIMEZONE
TZID:America/Kentucky/Louisville
X-LIC-LOCATION:America/Kentucky/Louisville
BEGIN:STANDARD
DTSTART:20241103T010000
TZOFFSETFROM:-0400
TZOFFSETTO:-0500
TZNAME:EST
END:STANDARD
END:VTIMEZONE
END:VCALENDAR