BEGIN:VCALENDAR
VERSION:2.0
PRODID:-//wp-events-plugin.com//7.2.3.1//EN
BEGIN:VEVENT
UID:6325@visitlebanonky.com
DTSTART;TZID=America/Kentucky/Louisville:20241116T210000
DTEND;TZID=America/Kentucky/Louisville:20241116T234500
DTSTAMP:20241022T223559Z
URL:https://visitlebanonky.com/events/the-suade-at-the-pines/
SUMMARY:The Suade at the Pines
DESCRIPTION:You can find this event on Facebook at https://www.facebook.com
 /events/309569701836155/?ref=newsfeed
ATTACH;FMTTYPE=image/jpeg:https://visitlebanonky.com/wp-content/uploads/20
 24/10/the-suade.jpg
CATEGORIES:Community
LOCATION:The Pines Restaurant and Bar\, 62220 Bradfordsville Road\, Lebanon
 \, KY/Marion\, 40033\, Marion County\, United States
GEO:42.03417;-91.59768
X-APPLE-STRUCTURED-LOCATION;VALUE=URI;X-ADDRESS=62220 Bradfordsville Road\,
  Lebanon\, KY/Marion\, 40033\, Marion County\, United States;X-APPLE-RADIU
 S=100;X-TITLE=The Pines Restaurant and Bar:geo:42.03417,-91.59768
END:VEVENT
BEGIN:VTIMEZONE
TZID:America/Kentucky/Louisville
X-LIC-LOCATION:America/Kentucky/Louisville
BEGIN:STANDARD
DTSTART:20241103T010000
TZOFFSETFROM:-0400
TZOFFSETTO:-0500
TZNAME:EST
END:STANDARD
END:VTIMEZONE
END:VCALENDAR