BEGIN:VCALENDAR
VERSION:2.0
PRODID:-//wp-events-plugin.com//7.2.3.1//EN
BEGIN:VEVENT
UID:7571@visitlebanonky.com
DTSTART;TZID=America/Kentucky/Louisville:20250512T090000
DTEND;TZID=America/Kentucky/Louisville:20250517T180000
DTSTAMP:20250512T152337Z
URL:https://visitlebanonky.com/events/this-week-at-the-marion-county-publi
 c-library-may-12-17/
SUMMARY:This week at the Marion County Public Library May 12-17
DESCRIPTION:From their Facebook page https://www.facebook.com/MarionCoPubli
 cLibrary\n\n*UPDATE* - the Kids Mini Banjo Craft will be rescheduled for F
 riday at 4PM. Also\, Fridays Movie will be at 12PM not 11AM.\nHere is a lo
 ok at this week at MCPL!  As always if you can't make it in to the library
 \, check our Bookmobile Schedule and see when the library is coming to you
 .  To sign up for library services check out the signup\, also linked belo
 w.\nWebsite Event Page:\nhttps://www.marioncopublic.org/events\nBookmobile
  Services Sign-Up:\nhttps://forms.gle/YiaAeBCW5yMudKyh6\n*****************
 **************************\nIf you want to stay up-to-date on all things n
 ew and happening at your public library\, all you need to do is sign up fo
 r our e-newsletter. It’s easy! Go to our website: www.marioncopublic.org
  and find the opt-in form on the right side of the screen\, enter your ema
 il address\, then look forward to weekly news to be delivered to your inbo
 x. In addition to the weekly newsletter\, we also use Facebook to make qui
 ck announcements such as library closures or modified hours due to winter 
 weather. We are open every day but Sunday.\n\nWhile you may see some of th
 e events highlighted individually on our VisitLebanonKY calendar there is 
 so much going on that we suggest you get on the email list and follow the 
 library on Facebook https://www.facebook.com/MarionCoPublicLibrary\n\nReme
 mber some events do require pre registration and don't forget there is now
  a Loretto branch of the Marion County Public Library located at 255 Schoo
 l Drive in Loretto\, KY. Hours are Monday\, Wednesday and Thursday from 10
  a.m. till 5:30 p.m. and every 4th Friday from 10 a.m. till 2 p.m.\n\n 
ATTACH;FMTTYPE=image/jpeg:https://visitlebanonky.com/wp-content/uploads/20
 25/05/library.jpg
CATEGORIES:Community
LOCATION:Marion County Public Library\, 201 E. Main Street\, Lebanon\, KY/M
 arion\, 40033\, Marion County\, United States
X-APPLE-STRUCTURED-LOCATION;VALUE=URI;X-ADDRESS=201 E. Main Street\, Lebano
 n\, KY/Marion\, 40033\, Marion County\, United States;X-APPLE-RADIUS=100;X
 -TITLE=Marion County Public Library:geo:0,0
END:VEVENT
BEGIN:VTIMEZONE
TZID:America/Kentucky/Louisville
X-LIC-LOCATION:America/Kentucky/Louisville
BEGIN:DAYLIGHT
DTSTART:20250309T030000
TZOFFSETFROM:-0500
TZOFFSETTO:-0400
TZNAME:EDT
END:DAYLIGHT
END:VTIMEZONE
END:VCALENDAR