BEGIN:VCALENDAR
VERSION:2.0
PRODID:-//wp-events-plugin.com//7.2.3.1//EN
BEGIN:VEVENT
UID:7595@visitlebanonky.com
DTSTART;TZID=America/Kentucky/Louisville:20250519T090000
DTEND;TZID=America/Kentucky/Louisville:20250524T180000
DTSTAMP:20250520T033039Z
URL:https://visitlebanonky.com/events/this-week-at-the-marion-county-publi
 c-library-may-19-23/
SUMMARY:This week at the Marion County Public Library May 19-24
DESCRIPTION:From their Facebook page https://www.facebook.com/MarionCoPubli
 cLibrary\n\n \nHere is a look at this week at MCPL!  As always if you can'
 t make it in to the library\, check our Bookmobile Schedule and see when t
 he library is coming to you.  To sign up for library services check out th
 e signup\, also linked below.\nWebsite Event Page:\nhttps://www.marioncopu
 blic.org/events\nBookmobile Services Sign-Up:\nhttps://forms.gle/YiaAeBCW5
 yMudKyh6\n\nAdult Events\n\n5/19 - Tai Chi (9AM)\n\n5/19 - Bingo (10:30AM)
 \n\n5/19 - "Young At Art" Coloring Club (5:30PM)\n\n5/20 - Adult Craft (1P
 M)\n\n5/27 - Book Club in person meeting (5:30PM)\n\n5/28 - Book Club onli
 ne meeting (7:30PM)\n\n5/29 - Adult Craft (6PM)\n\n6/2 - Bingo (10:30AM)\n
 \n6/5 - Coffee w/ Veterans Breakfast (9AM)\n\n6/6 - Grab'n'Go Craft\n\n6/1
 6 - Bingo (10:30AM)\n\n6/16 - Pollinator Seed Giveaway\n\n6/16 - Young At 
 Art Coloring Club (4-6PM)\n\n6/20 - Grab'n'Go Craft\n\n6/23 - "I Know Why 
 The Caged Bird Sings" Discussion (5PM)\n\n6/24 - Adult Readers Book Club I
 n-Person Meeting (5:30PM)\n\n6/25 - DIY Propagation Plant Stations & Plant
  Swap (4:30PM)\n\n6/25 - Adult Readers Book Club Virtual Meeting (7:30PM)\
 n\n6/26 - Diamond Painting Bookmarks (4PM)\n\n6/27 - Recipe Swap (4PM)\n\n
 6/28 - Adult Summer Reading Craft: Tie Dye Sunhats\, registration required
  (2-4PM)\n\nTBA - Book Swap @ School Grounds Coffee\n*********************
 **********************\nIf you want to stay up-to-date on all things new a
 nd happening at your public library\, all you need to do is sign up for ou
 r e-newsletter. It’s easy! Go to our website: www.marioncopublic.org and
  find the opt-in form on the right side of the screen\, enter your email a
 ddress\, then look forward to weekly news to be delivered to your inbox. I
 n addition to the weekly newsletter\, we also use Facebook to make quick a
 nnouncements such as library closures or modified hours due to winter weat
 her. We are open every day but Sunday.\n\nWhile you may see some of the ev
 ents highlighted individually on our VisitLebanonKY calendar there is so m
 uch going on that we suggest you get on the email list and follow the libr
 ary on Facebook https://www.facebook.com/MarionCoPublicLibrary\n\nRemember
  some events do require pre registration and don't forget there is now a L
 oretto branch of the Marion County Public Library located at 255 School Dr
 ive in Loretto\, KY. Hours are Monday\, Wednesday and Thursday from 10 a.m
 . till 5:30 p.m. and every 4th Friday from 10 a.m. till 2 p.m.\n\n 
ATTACH;FMTTYPE=image/jpeg:https://visitlebanonky.com/wp-content/uploads/20
 25/05/library-1.jpg
CATEGORIES:Community
LOCATION:Marion County Public Library\, 201 E. Main Street\, Lebanon\, KY/M
 arion\, 40033\, Marion County\, United States
X-APPLE-STRUCTURED-LOCATION;VALUE=URI;X-ADDRESS=201 E. Main Street\, Lebano
 n\, KY/Marion\, 40033\, Marion County\, United States;X-APPLE-RADIUS=100;X
 -TITLE=Marion County Public Library:geo:0,0
END:VEVENT
BEGIN:VTIMEZONE
TZID:America/Kentucky/Louisville
X-LIC-LOCATION:America/Kentucky/Louisville
BEGIN:DAYLIGHT
DTSTART:20250309T030000
TZOFFSETFROM:-0500
TZOFFSETTO:-0400
TZNAME:EDT
END:DAYLIGHT
END:VTIMEZONE
END:VCALENDAR