BEGIN:VCALENDAR
VERSION:2.0
PRODID:-//wp-events-plugin.com//7.2.3.1//EN
BEGIN:VEVENT
UID:7617@visitlebanonky.com
DTSTART;TZID=America/Kentucky/Louisville:20250527T090000
DTEND;TZID=America/Kentucky/Louisville:20250531T180000
DTSTAMP:20250526T185412Z
URL:https://visitlebanonky.com/events/this-week-at-the-marion-county-publi
 c-library-may-27-31/
SUMMARY:This week at the Marion County Public Library May 27-31
DESCRIPTION:From their Facebook page https://www.facebook.com/MarionCoPubli
 cLibrary\n\n \nHere is a look at this week at MCPL!  Be sure to swing by a
 nd check out the Kentucky Science Centers Play 2 Go interactive exhibit fo
 r the kiddos!  As always if you can't make it in to the library\, check ou
 r Bookmobile Schedule and see when the library is coming to you.  To sign 
 up for library services check out the signup\, also linked below.\nWebsite
  Event Page:\nhttps://www.marioncopublic.org/events\nBookmobile Services S
 ign-Up:\nhttps://forms.gle/YiaAeBCW5yMudKyh6\n\nAdult Events\n5/27 - Book 
 Club in person meeting (5:30PM)\n\n5/28 - Book Club online meeting (7:30PM
 )\n\n5/29 - Adult Craft (6PM)\n\n6/2 - Bingo (10:30AM)\n\n6/5 - Coffee w/ 
 Veterans Breakfast (9AM)\n\n6/6 - Grab'n'Go Craft\n\n6/16 - Bingo (10:30AM
 )\n\n6/16 - Pollinator Seed Giveaway\n\n6/16 - Young At Art Coloring Club 
 (4-6PM)\n\n6/20 - Grab'n'Go Craft\n\n6/23 - "I Know Why The Caged Bird Sin
 gs" Discussion (5PM)\n\n6/24 - Adult Readers Book Club In-Person Meeting (
 5:30PM)\n\n6/25 - DIY Propagation Plant Stations & Plant Swap (4:30PM)\n\n
 6/25 - Adult Readers Book Club Virtual Meeting (7:30PM)\n\n6/26 - Diamond 
 Painting Bookmarks (4PM)\n\n6/27 - Recipe Swap (4PM)\n\n6/28 - Adult Summe
 r Reading Craft: Tie Dye Sunhats\, registration required (2-4PM)\n\nTBA - 
 Book Swap @ School Grounds Coffee\n***************************************
 ****\nIf you want to stay up-to-date on all things new and happening at yo
 ur public library\, all you need to do is sign up for our e-newsletter. It
 ’s easy! Go to our website: www.marioncopublic.org and find the opt-in f
 orm on the right side of the screen\, enter your email address\, then look
  forward to weekly news to be delivered to your inbox. In addition to the 
 weekly newsletter\, we also use Facebook to make quick announcements such 
 as library closures or modified hours due to winter weather. We are open e
 very day but Sunday.\n\nWhile you may see some of the events highlighted i
 ndividually on our VisitLebanonKY calendar there is so much going on that 
 we suggest you get on the email list and follow the library on Facebook ht
 tps://www.facebook.com/MarionCoPublicLibrary\n\nRemember some events do re
 quire pre registration and don't forget there is now a Loretto branch of t
 he Marion County Public Library located at 255 School Drive in Loretto\, K
 Y. Hours are Monday\, Wednesday and Thursday from 10 a.m. till 5:30 p.m. a
 nd every 4th Friday from 10 a.m. till 2 p.m.\n\n 
ATTACH;FMTTYPE=image/jpeg:https://visitlebanonky.com/wp-content/uploads/20
 25/05/library-2.jpg
CATEGORIES:Community
LOCATION:Marion County Public Library\, 201 E. Main Street\, Lebanon\, KY/M
 arion\, 40033\, Marion County\, United States
X-APPLE-STRUCTURED-LOCATION;VALUE=URI;X-ADDRESS=201 E. Main Street\, Lebano
 n\, KY/Marion\, 40033\, Marion County\, United States;X-APPLE-RADIUS=100;X
 -TITLE=Marion County Public Library:geo:0,0
END:VEVENT
BEGIN:VTIMEZONE
TZID:America/Kentucky/Louisville
X-LIC-LOCATION:America/Kentucky/Louisville
BEGIN:DAYLIGHT
DTSTART:20250309T030000
TZOFFSETFROM:-0500
TZOFFSETTO:-0400
TZNAME:EDT
END:DAYLIGHT
END:VTIMEZONE
END:VCALENDAR