BEGIN:VCALENDAR
VERSION:2.0
PRODID:-//wp-events-plugin.com//7.2.3.1//EN
BEGIN:VEVENT
UID:7562@visitlebanonky.com
DTSTART;TZID=America/Kentucky/Louisville:20250505T090000
DTEND;TZID=America/Kentucky/Louisville:20250510T180000
DTSTAMP:20250507T212442Z
URL:https://visitlebanonky.com/events/this-week-at-the-marion-county-publi
 c-library-may-5-10/
SUMMARY:This week at the Marion County Public Library May 5-10
DESCRIPTION:From their Facebook page https://www.facebook.com/MarionCoPubli
 cLibrary\n\nHere is a look at this week at MCPL!  You can find the link to
  sign up for our Jane Austen Regency Tea below as well as a link to our we
 bsite to browse our other events.  As always if you can't make it in to th
 e library\, check our Bookmobile Schedule and see when the library is comi
 ng to you.  To sign up for library services check out the signup\, also li
 nked below.  Also\, don't forget to check in for our Grab'n'Go Crafts this
  week!\nJane Austen Regency Tea sign up:\nhttps://docs.google.com/.../1FAI
 pQLSfl6H1dFe42bl.../viewform\nWebsite Event Page:\nhttps://www.marioncopub
 lic.org/events\nBookmobile Services Sign-Up:\nhttps://docs.google.com/.../
 1FAIpQLSd8NQ4VODFNkg.../viewform\n****************************************
 ***\nIf you want to stay up-to-date on all things new and happening at you
 r public library\, all you need to do is sign up for our e-newsletter. It
 ’s easy! Go to our website: www.marioncopublic.org and find the opt-in f
 orm on the right side of the screen\, enter your email address\, then look
  forward to weekly news to be delivered to your inbox. In addition to the 
 weekly newsletter\, we also use Facebook to make quick announcements such 
 as library closures or modified hours due to winter weather. We are open e
 very day but Sunday.\n\nWhile you may see some of the events highlighted i
 ndividually on our VisitLebanonKY calendar there is so much going on that 
 we suggest you get on the email list and follow the library on Facebook ht
 tps://www.facebook.com/MarionCoPublicLibrary\n\nRemember some events do re
 quire pre registration and don't forget there is now a Loretto branch of t
 he Marion County Public Library located at 255 School Drive in Loretto\, K
 Y. Hours are Monday\, Wednesday and Thursday from 10 a.m. till 5:30 p.m. a
 nd every 4th Friday from 10 a.m. till 2 p.m.\n\n 
ATTACH;FMTTYPE=image/jpeg:https://visitlebanonky.com/wp-content/uploads/20
 25/04/library-3.jpg
CATEGORIES:Community
LOCATION:Marion County Public Library\, 201 E. Main Street\, Lebanon\, KY/M
 arion\, 40033\, Marion County\, United States
X-APPLE-STRUCTURED-LOCATION;VALUE=URI;X-ADDRESS=201 E. Main Street\, Lebano
 n\, KY/Marion\, 40033\, Marion County\, United States;X-APPLE-RADIUS=100;X
 -TITLE=Marion County Public Library:geo:0,0
END:VEVENT
BEGIN:VTIMEZONE
TZID:America/Kentucky/Louisville
X-LIC-LOCATION:America/Kentucky/Louisville
BEGIN:DAYLIGHT
DTSTART:20250309T030000
TZOFFSETFROM:-0500
TZOFFSETTO:-0400
TZNAME:EDT
END:DAYLIGHT
END:VTIMEZONE
END:VCALENDAR