BEGIN:VCALENDAR
VERSION:2.0
PRODID:-//wp-events-plugin.com//7.2.3.1//EN
BEGIN:VEVENT
UID:8107@visitlebanonky.com
DTSTART;TZID=America/Kentucky/Louisville:20251020T090000
DTEND;TZID=America/Kentucky/Louisville:20251025T180000
DTSTAMP:20251022T000340Z
URL:https://visitlebanonky.com/events/this-week-at-the-marion-county-publi
 c-library-october-20-25/
SUMMARY:This week at the Marion County Public Library October 20-25
DESCRIPTION:For complete details on things happening at the library\, follo
 w us on Facebook at https://www.facebook.com/MarionCoPublicLibrary or sign
  up for the emailed newsletter by going to our website: www.marioncopublic
 .org and find the opt-in form on the right side of the screen\, enter your
  email address\, then look forward to weekly news to be delivered to your 
 inbox. \n\nRemember some events do require pre registration and don't forg
 et there is now a Loretto branch of the Marion County Public Library locat
 ed at 255 School Drive in Loretto\, KY. Loretto hours are Monday\, Wednesd
 ay and Thursday from 10 a.m. till 5:30 p.m. and every 4th Friday from 10 a
 .m. till 2 p.m.\n\nHere is a look at this week at MCPL!\nAs always if you 
 can't make it in to the library\, check our Bookmobile Schedule and see wh
 en the library is coming to you.  To sign up for bookmobile services check
  out the signup\, also linked below.\nWebsite Event Page:\nhttps://www.mar
 ioncopublic.org/events\nBookmobile Services Sign-Up:\nhttps://forms.gle/Yi
 aAeBCW5yMudKyh6\n\nBingo is back in October\n \n\nAdult Events Coming Up:\
 n\n10/20-10/25 - "What They Were Wearing" exhibit\n\n10/20 - Bingo (10:30A
 M)\n\n10/27 - Grab'n'Go Craft\n\n11/15 - Golden Girls Tea\, all ages (12PM
 -2PM)\n\n11/27-11/28 - Closed for Thanksgiving\n\nCheck out the Loretto Br
 anch Group\n\nTeen Events Coming Up:\n \n10/23 - Pet Ghost in a Jar Craft 
 (3:30-5:30PM)\n\n10/24 - Middle School Book CLub @ MCMS (10AM-2PM)\n\n10/2
 5 - Tabletop Game Day (3:30-5:30PM)\n \n 
ATTACH;FMTTYPE=image/jpeg:https://visitlebanonky.com/wp-content/uploads/20
 25/10/library-2.jpg
CATEGORIES:Community
LOCATION:Marion County Public Library\, 201 E. Main Street\, Lebanon\, KY/M
 arion\, 40033\, Marion County\, United States
X-APPLE-STRUCTURED-LOCATION;VALUE=URI;X-ADDRESS=201 E. Main Street\, Lebano
 n\, KY/Marion\, 40033\, Marion County\, United States;X-APPLE-RADIUS=100;X
 -TITLE=Marion County Public Library:geo:0,0
END:VEVENT
BEGIN:VTIMEZONE
TZID:America/Kentucky/Louisville
X-LIC-LOCATION:America/Kentucky/Louisville
BEGIN:DAYLIGHT
DTSTART:20250309T030000
TZOFFSETFROM:-0500
TZOFFSETTO:-0400
TZNAME:EDT
END:DAYLIGHT
END:VTIMEZONE
END:VCALENDAR