BEGIN:VCALENDAR
VERSION:2.0
PRODID:-//wp-events-plugin.com//7.2.3.1//EN
BEGIN:VEVENT
UID:8140@visitlebanonky.com
DTSTART;TZID=America/Kentucky/Louisville:20251026T110000
DTEND;TZID=America/Kentucky/Louisville:20251026T170000
DTSTAMP:20251021T235605Z
URL:https://visitlebanonky.com/events/tnt-car-show-2/
SUMMARY:TNT Car Show
DESCRIPTION:We will be serving our first rotisserie turkey dinners of the s
 eason 🦃 \nOptional pumpkin cheesecake 😋 and more sweet treats 🍰
 🍪
ATTACH;FMTTYPE=image/jpeg:https://visitlebanonky.com/wp-content/uploads/20
 25/10/tnt-car-show.jpg
CATEGORIES:Community
LOCATION:TNT BBQ\, 1935 Frogtown Road\, Lebanon\, Kentucky\, 40033\, Marion
  County\, United States
GEO:37.594942;-85.3712
X-APPLE-STRUCTURED-LOCATION;VALUE=URI;X-ADDRESS=1935 Frogtown Road\, Lebano
 n\, Kentucky\, 40033\, Marion County\, United States;X-APPLE-RADIUS=100;X-
 TITLE=TNT BBQ:geo:37.594942,-85.3712
END:VEVENT
BEGIN:VTIMEZONE
TZID:America/Kentucky/Louisville
X-LIC-LOCATION:America/Kentucky/Louisville
BEGIN:DAYLIGHT
DTSTART:20250309T030000
TZOFFSETFROM:-0500
TZOFFSETTO:-0400
TZNAME:EDT
END:DAYLIGHT
END:VTIMEZONE
END:VCALENDAR