BEGIN:VCALENDAR
VERSION:2.0
PRODID:-//wp-events-plugin.com//7.2.3.1//EN
BEGIN:VEVENT
UID:8859@visitlebanonky.com
DTSTART;TZID=America/Kentucky/Louisville:20260227T000000
DTEND;TZID=America/Kentucky/Louisville:20260228T000000
DTSTAMP:20260212T035740Z
URL:https://visitlebanonky.com/events/to-kill-a-mockingbird-3/
SUMMARY:To Kill A Mockingbird
DESCRIPTION:Follow on Facebook HERE \nBuy tickets HERE\nShow dates: Feb. 20
 \, 21\, 27 and 28 at 7 p.m.\; February 21 and 22 at 2 p.m.
ATTACH;FMTTYPE=image/jpeg:https://visitlebanonky.com/wp-content/uploads/20
 25/11/to-kill-2.jpg
CATEGORIES:Official
LOCATION:Kentucky Classic ARTS at Centre Square\, 237 North Spalding Avenue
 \, Lebanon\, KY\, 40033\, United States
X-APPLE-STRUCTURED-LOCATION;VALUE=URI;X-ADDRESS=237 North Spalding Avenue\,
  Lebanon\, KY\, 40033\, United States;X-APPLE-RADIUS=100;X-TITLE=Kentucky 
 Classic ARTS at Centre Square:geo:0,0
END:VEVENT
BEGIN:VTIMEZONE
TZID:America/Kentucky/Louisville
X-LIC-LOCATION:America/Kentucky/Louisville
BEGIN:STANDARD
DTSTART:20251102T010000
TZOFFSETFROM:-0400
TZOFFSETTO:-0500
TZNAME:EST
END:STANDARD
END:VTIMEZONE
END:VCALENDAR