BEGIN:VCALENDAR
VERSION:2.0
PRODID:-//wp-events-plugin.com//7.2.3.1//EN
BEGIN:VEVENT
UID:8681@visitlebanonky.com
DTSTART;TZID=America/Kentucky/Louisville:20260220T180000
DTEND;TZID=America/Kentucky/Louisville:20260220T220000
DTSTAMP:20260219T135634Z
URL:https://visitlebanonky.com/events/trap-shoot-at-mc-sportsman-club-2/
SUMMARY:Trap Shoot at MC Sportsman Club
DESCRIPTION:Follow on Facebook HERE\n
ATTACH;FMTTYPE=image/jpeg:https://visitlebanonky.com/wp-content/uploads/20
 26/01/trap-shoot.jpg
CATEGORIES:Community
LOCATION:Marion County Sportsmans Club\, 716 Sportsmans Lake Road\, Lebanon
 \, Kentucky\, 40033\, Marion County\, United States
GEO:37.51209;-85.24837
X-APPLE-STRUCTURED-LOCATION;VALUE=URI;X-ADDRESS=716 Sportsmans Lake Road\, 
 Lebanon\, Kentucky\, 40033\, Marion County\, United States;X-APPLE-RADIUS=
 100;X-TITLE=Marion County Sportsmans Club:geo:37.51209,-85.24837
END:VEVENT
BEGIN:VTIMEZONE
TZID:America/Kentucky/Louisville
X-LIC-LOCATION:America/Kentucky/Louisville
BEGIN:STANDARD
DTSTART:20251102T010000
TZOFFSETFROM:-0400
TZOFFSETTO:-0500
TZNAME:EST
END:STANDARD
END:VTIMEZONE
END:VCALENDAR