BEGIN:VCALENDAR
VERSION:2.0
PRODID:-//wp-events-plugin.com//7.2.3.1//EN
BEGIN:VEVENT
UID:8161@visitlebanonky.com
DTSTART;TZID=America/Kentucky/Louisville:20251123T000000
DTEND;TZID=America/Kentucky/Louisville:20251123T000000
DTSTAMP:20251029T000346Z
URL:https://visitlebanonky.com/events/trap-shoot/
SUMMARY:Trap Shoot
DESCRIPTION:Event by Marion Co Sportsman’s Club Ky \n716 Sportsman Lake R
 oad\, Lebanon\, KY\nPublic  \n🎯 TRAP SHOOT – Sunday\, November 23rd! 
 🎯\nJoin us at the Marion County Sportsman’s Club for another exciting
  day of shooting and friendly competition!\n🔥 Details:\n• 50 Bird Rac
 e – Calcutta\n• Payout: Top 3 Places\n• Entry Fee: $30 per person\n$
 15 range fee\n$10 match\n$5 minimum for Calcutta\n• Game Starts: 2:00 PM
 \nBring your friends\, sharpen your aim\, and come enjoy a great day at th
 e club! 💥\n📞 For more info: (270) 402-2373
ATTACH;FMTTYPE=image/jpeg:https://visitlebanonky.com/wp-content/uploads/20
 25/10/trap-shoot-1.jpg
CATEGORIES:Community
LOCATION:Marion County Sportsmans Club\, 716 Sportsmans Lake Road\, Lebanon
 \, Kentucky\, 40033\, Marion County\, United States
GEO:37.51209;-85.24837
X-APPLE-STRUCTURED-LOCATION;VALUE=URI;X-ADDRESS=716 Sportsmans Lake Road\, 
 Lebanon\, Kentucky\, 40033\, Marion County\, United States;X-APPLE-RADIUS=
 100;X-TITLE=Marion County Sportsmans Club:geo:37.51209,-85.24837
END:VEVENT
BEGIN:VTIMEZONE
TZID:America/Kentucky/Louisville
X-LIC-LOCATION:America/Kentucky/Louisville
BEGIN:STANDARD
DTSTART:20251102T010000
TZOFFSETFROM:-0400
TZOFFSETTO:-0500
TZNAME:EST
END:STANDARD
END:VTIMEZONE
END:VCALENDAR