BEGIN:VCALENDAR
VERSION:2.0
PRODID:-//wp-events-plugin.com//7.2.3.1//EN
BEGIN:VEVENT
UID:8947@visitlebanonky.com
DTSTART;TZID=America/Kentucky/Louisville:20260319T123000
DTEND;TZID=America/Kentucky/Louisville:20260319T143000
DTSTAMP:20260306T172209Z
URL:https://visitlebanonky.com/events/tree-health-and-pruning-workshop/
SUMMARY:Tree Health and Pruning Workshop
DESCRIPTION:You can find this event on Facebook HERE\nAre you interested in
  learning more about how to analyze the health of your trees? Do you want 
 to learn how to do your own pruning to keep your trees looking and feeling
  their best? JOIN US March 19th at 12:30 pm for a workshop to explore thes
 e topics.\nChris Wiedamann\, Urban and Community Forestry Program Coordina
 tor with Kentucky Division of Forestry\, will lead us in a hands on prunin
 g demonstration. You can bring you own hand tools or we will have some pro
 vided for you to try out. Please share with anyone who may be interested!\
 nPlease register so we know how many people to plan for! \nSign up HERE
CATEGORIES:Community
LOCATION:Loretto Motherhouse Farm\, 515 Nerinx Road\, Nerinx\, KY\, 40049\,
  United States
X-APPLE-STRUCTURED-LOCATION;VALUE=URI;X-ADDRESS=515 Nerinx Road\, Nerinx\, 
 KY\, 40049\, United States;X-APPLE-RADIUS=100;X-TITLE=Loretto Motherhouse 
 Farm:geo:0,0
END:VEVENT
BEGIN:VTIMEZONE
TZID:America/Kentucky/Louisville
X-LIC-LOCATION:America/Kentucky/Louisville
BEGIN:DAYLIGHT
DTSTART:20260308T030000
TZOFFSETFROM:-0500
TZOFFSETTO:-0400
TZNAME:EDT
END:DAYLIGHT
END:VTIMEZONE
END:VCALENDAR