BEGIN:VCALENDAR
VERSION:2.0
PRODID:-//wp-events-plugin.com//7.2.3.1//EN
BEGIN:VEVENT
UID:8163@visitlebanonky.com
DTSTART;TZID=America/Kentucky/Louisville:20251031T170000
DTEND;TZID=America/Kentucky/Louisville:20251031T190000
DTSTAMP:20251028T235042Z
URL:https://visitlebanonky.com/events/trick-or-treat-at-the-library/
SUMMARY:Trick or Treat at the Library
DESCRIPTION:For complete details on things happening at the library\, follo
 w us on Facebook at https://www.facebook.com/MarionCoPublicLibrary or sign
  up for the emailed newsletter by going to our website: www.marioncopublic
 .org and find the opt-in form on the right side of the screen\, enter your
  email address\, then look forward to weekly news to be delivered to your 
 inbox. \n\n \n 
ATTACH;FMTTYPE=image/jpeg:https://visitlebanonky.com/wp-content/uploads/20
 25/10/library-halloween.jpg
CATEGORIES:Community
LOCATION:Marion County Public Library\, 201 E. Main Street\, Lebanon\, KY/M
 arion\, 40033\, Marion County\, United States
X-APPLE-STRUCTURED-LOCATION;VALUE=URI;X-ADDRESS=201 E. Main Street\, Lebano
 n\, KY/Marion\, 40033\, Marion County\, United States;X-APPLE-RADIUS=100;X
 -TITLE=Marion County Public Library:geo:0,0
END:VEVENT
BEGIN:VTIMEZONE
TZID:America/Kentucky/Louisville
X-LIC-LOCATION:America/Kentucky/Louisville
BEGIN:DAYLIGHT
DTSTART:20250309T030000
TZOFFSETFROM:-0500
TZOFFSETTO:-0400
TZNAME:EDT
END:DAYLIGHT
END:VTIMEZONE
END:VCALENDAR