BEGIN:VCALENDAR
VERSION:2.0
PRODID:-//wp-events-plugin.com//7.2.3.1//EN
BEGIN:VEVENT
UID:8628@visitlebanonky.com
DTSTART;TZID=America/Kentucky/Louisville:20260114T190000
DTEND;TZID=America/Kentucky/Louisville:20260114T210000
DTSTAMP:20260113T192559Z
URL:https://visitlebanonky.com/events/trivia-at-good-buddies-brewing-compa
 ny/
SUMMARY:Trivia at Good Buddies Brewing Company
DESCRIPTION:Guess what’s back?! 🎉\nEveryone’s favorite… TRIVIA NIG
 HT! 🧠🍻\nYour favorite host is back and ready for a fun night!\nWe’
 re excited to kick off our first Trivia Night in our NEW location this Thu
 rsday\, January 15th!\n🕖 Trivia starts at 7PM\nGrab your good buddies\,
  come show us what you know\, enjoy great local brews\, and dig into some 
 delicious food!\nWho’s coming to win bragging rights?! 🏆\n\nFollow on
  Facebook HERE for all things going on at Good Buddies.
ATTACH;FMTTYPE=image/jpeg:https://visitlebanonky.com/wp-content/uploads/20
 26/01/TRIVIA-AT-GOOD-BUDDIES.jpg
CATEGORIES:Community
LOCATION:Good Buddies Brewing Company\, 104 Independence Drive\, LEBANON\, 
 KY\, 40033\, Marion County\, United States
X-APPLE-STRUCTURED-LOCATION;VALUE=URI;X-ADDRESS=104 Independence Drive\, LE
 BANON\, KY\, 40033\, Marion County\, United States;X-APPLE-RADIUS=100;X-TI
 TLE=Good Buddies Brewing Company:geo:0,0
END:VEVENT
BEGIN:VTIMEZONE
TZID:America/Kentucky/Louisville
X-LIC-LOCATION:America/Kentucky/Louisville
BEGIN:STANDARD
DTSTART:20251102T010000
TZOFFSETFROM:-0400
TZOFFSETTO:-0500
TZNAME:EST
END:STANDARD
END:VTIMEZONE
END:VCALENDAR