BEGIN:VCALENDAR
VERSION:2.0
PRODID:-//wp-events-plugin.com//7.2.3.1//EN
BEGIN:VEVENT
UID:6735@visitlebanonky.com
DTSTART;TZID=America/Kentucky/Louisville:20250118T100000
DTEND;TZID=America/Kentucky/Louisville:20250118T110000
DTSTAMP:20250101T231527Z
URL:https://visitlebanonky.com/events/true-crime-podcast-club/
SUMMARY:True Crime Podcast Club
DESCRIPTION:
ATTACH;FMTTYPE=image/jpeg:https://visitlebanonky.com/wp-content/uploads/20
 25/01/true-crime.png
CATEGORIES:Community
LOCATION:School Grounds Coffee\, 237 N Spalding Ave\, Lebanon\, Kentucky\, 
 40033\, Marion County\, United States
GEO:37.572122;-85.253878
X-APPLE-STRUCTURED-LOCATION;VALUE=URI;X-ADDRESS=237 N Spalding Ave\, Lebano
 n\, Kentucky\, 40033\, Marion County\, United States;X-APPLE-RADIUS=100;X-
 TITLE=School Grounds Coffee:geo:37.572122,-85.253878
END:VEVENT
BEGIN:VTIMEZONE
TZID:America/Kentucky/Louisville
X-LIC-LOCATION:America/Kentucky/Louisville
BEGIN:STANDARD
DTSTART:20241103T010000
TZOFFSETFROM:-0400
TZOFFSETTO:-0500
TZNAME:EST
END:STANDARD
END:VTIMEZONE
END:VCALENDAR