BEGIN:VCALENDAR
VERSION:2.0
PRODID:-//wp-events-plugin.com//7.2.3.1//EN
BEGIN:VEVENT
UID:8144@visitlebanonky.com
DTSTART;TZID=America/Kentucky/Louisville:20251022T000000
DTEND;TZID=America/Kentucky/Louisville:20251022T000000
DTSTAMP:20251022T001422Z
URL:https://visitlebanonky.com/events/trunk-or-treat-2/
SUMMARY:Trunk or Treat
DESCRIPTION:🎃 TRUNK-OR-TREAT 🎃\nMark your calendars and plan to bring
  the kiddos out to the Lebanon Trade Center on Wednesday 10/22!\nEnjoy the
  following:\n*Free grilled hotdogs 😋\n*Fall backdrop for family photos 
 📷😬\n*Lots of treats for the kiddos 🍫\n🤎Help us spread the word
 !! 🧡\nSee ya there! 
ATTACH;FMTTYPE=image/jpeg:https://visitlebanonky.com/wp-content/uploads/20
 25/10/gods-hands.jpg
CATEGORIES:Community
LOCATION:Gods Hands Ministries\, 170 Lebanon Trade Center\, Lebanon\, Kentu
 cky\, 40033\, Marion County\, United States
GEO:37.558888;-85.270473
X-APPLE-STRUCTURED-LOCATION;VALUE=URI;X-ADDRESS=170 Lebanon Trade Center\, 
 Lebanon\, Kentucky\, 40033\, Marion County\, United States;X-APPLE-RADIUS=
 100;X-TITLE=Gods Hands Ministries:geo:37.558888,-85.270473
END:VEVENT
BEGIN:VTIMEZONE
TZID:America/Kentucky/Louisville
X-LIC-LOCATION:America/Kentucky/Louisville
BEGIN:DAYLIGHT
DTSTART:20250309T030000
TZOFFSETFROM:-0500
TZOFFSETTO:-0400
TZNAME:EDT
END:DAYLIGHT
END:VTIMEZONE
END:VCALENDAR