BEGIN:VCALENDAR
VERSION:2.0
PRODID:-//wp-events-plugin.com//7.2.3.1//EN
BEGIN:VEVENT
UID:8180@visitlebanonky.com
DTSTART;TZID=America/Kentucky/Louisville:20251031T170000
DTEND;TZID=America/Kentucky/Louisville:20251031T200000
DTSTAMP:20251029T015330Z
URL:https://visitlebanonky.com/events/trunk-or-treat-at-erica-barnes-state
 -farm/
SUMMARY:Trunk or Treat at Erica Barnes State Farm
DESCRIPTION:Vendors welcome at no charge! Come by and get your treats! Loca
 l Honey and You’re Charming will be set up and Trunk or Treat for the ki
 ds!
ATTACH;FMTTYPE=image/jpeg:https://visitlebanonky.com/wp-content/uploads/20
 25/10/state-farm.jpg
CATEGORIES:Community
LOCATION:Erica Barnes State Farm\, 1810 Campbellsville Highway\, Lebanon\, 
 Kentucky\, 40033\, Marion County\, United States
GEO:37.556807;-85.280454
X-APPLE-STRUCTURED-LOCATION;VALUE=URI;X-ADDRESS=1810 Campbellsville Highway
 \, Lebanon\, Kentucky\, 40033\, Marion County\, United States;X-APPLE-RADI
 US=100;X-TITLE=Erica Barnes State Farm:geo:37.556807,-85.280454
END:VEVENT
BEGIN:VTIMEZONE
TZID:America/Kentucky/Louisville
X-LIC-LOCATION:America/Kentucky/Louisville
BEGIN:DAYLIGHT
DTSTART:20250309T030000
TZOFFSETFROM:-0500
TZOFFSETTO:-0400
TZNAME:EDT
END:DAYLIGHT
END:VTIMEZONE
END:VCALENDAR