BEGIN:VCALENDAR
VERSION:2.0
PRODID:-//wp-events-plugin.com//7.2.3.1//EN
BEGIN:VEVENT
UID:6620@visitlebanonky.com
DTSTART;TZID=America/Kentucky/Louisville:20241219T210000
DTEND;TZID=America/Kentucky/Louisville:20241219T234500
DTSTAMP:20241219T172703Z
URL:https://visitlebanonky.com/events/ugly-christmas-sweater-and-karaoke-a
 t-chasers/
SUMMARY:Ugly Christmas Sweater and Karaoke at Chasers
DESCRIPTION:Thirsty Thursday\, December 19\, we will be having Ugly Christm
 as Sweater Karaoke at 9pm. Come out and Enjoy half off bottled beer\, $6 L
 iquid MaryJs\, and fun times with some of your favorite people.\n\n 
ATTACH;FMTTYPE=image/jpeg:https://visitlebanonky.com/wp-content/uploads/20
 24/12/chasers-thirsty-1.jpg
CATEGORIES:Community
LOCATION:Chasers Restaurant\, 110 N. Proctor Knott Ave.\, Lebanon\, Kentuck
 y\, 40033\, Marion County\, United States
GEO:37.56962;-85.25468
X-APPLE-STRUCTURED-LOCATION;VALUE=URI;X-ADDRESS=110 N. Proctor Knott Ave.\,
  Lebanon\, Kentucky\, 40033\, Marion County\, United States;X-APPLE-RADIUS
 =100;X-TITLE=Chasers Restaurant:geo:37.56962,-85.25468
END:VEVENT
BEGIN:VTIMEZONE
TZID:America/Kentucky/Louisville
X-LIC-LOCATION:America/Kentucky/Louisville
BEGIN:STANDARD
DTSTART:20241103T010000
TZOFFSETFROM:-0400
TZOFFSETTO:-0500
TZNAME:EST
END:STANDARD
END:VTIMEZONE
END:VCALENDAR