BEGIN:VCALENDAR
VERSION:2.0
PRODID:-//wp-events-plugin.com//7.2.3.1//EN
BEGIN:VEVENT
UID:8136@visitlebanonky.com
DTSTART;TZID=America/Kentucky/Louisville:20251020T000000
DTEND;TZID=America/Kentucky/Louisville:20251021T000000
DTSTAMP:20251016T180813Z
URL:https://visitlebanonky.com/events/unemployment-insurance-mobile-unit-i
 n-lebanon/
SUMMARY:Unemployment Insurance Mobile Unit in Lebanon
DESCRIPTION:📢 ATTENTION KY COOPERAGE EMPLOYEES FACING DISLOCATION!\n🚌
 The Unemployment Insurance Mobile Unit from Frankfort will be available to
  assist you with unemployment claims and questions.\n📍 Location: Lebano
 n/Marion County Career Center\n                     516 Workshop Lane\, Le
 banon\, KY 40033\n🗓️ Dates: October 20th & 21st\n🕘 Time: Starting 
 at 9:00 AM each day\n📞 For more information:\nContact Terri or Elizabet
 h at (270) 692-6870\n✅ Please Bring the Following Items:\n• Driver’s
  License (Must have unexpired driver license and correct address)\n• Soc
 ial Security Card\n• A working email address set up in your name on your
  cell phone\n• Direct Deposit must have your Bank’s routing and accoun
 t number\n• Must know your hire date and last day of work
ATTACH;FMTTYPE=image/jpeg:https://visitlebanonky.com/wp-content/uploads/20
 25/10/unemployment.jpg
CATEGORIES:Community
LOCATION:Lebanon Marion County Career Center\, 516 Workshop Lane\, Lebanon\
 , Kentucky\, 40033\, Marion County\, United States
GEO:37.580811;-85.253393
X-APPLE-STRUCTURED-LOCATION;VALUE=URI;X-ADDRESS=516 Workshop Lane\, Lebanon
 \, Kentucky\, 40033\, Marion County\, United States;X-APPLE-RADIUS=100;X-T
 ITLE=Lebanon Marion County Career Center:geo:37.580811,-85.253393
END:VEVENT
BEGIN:VTIMEZONE
TZID:America/Kentucky/Louisville
X-LIC-LOCATION:America/Kentucky/Louisville
BEGIN:DAYLIGHT
DTSTART:20250309T030000
TZOFFSETFROM:-0500
TZOFFSETTO:-0400
TZNAME:EDT
END:DAYLIGHT
END:VTIMEZONE
END:VCALENDAR