BEGIN:VCALENDAR
VERSION:2.0
PRODID:-//wp-events-plugin.com//7.2.3.1//EN
BEGIN:VEVENT
UID:7804@visitlebanonky.com
DTSTART;TZID=America/Kentucky/Louisville:20250725T180000
DTEND;TZID=America/Kentucky/Louisville:20250725T190000
DTSTAMP:20250721T174643Z
URL:https://visitlebanonky.com/events/uscca-class-at-mc-event-center-and-s
 portsplex/
SUMMARY:USCCA Class at MC Event Center and Sportsplex
DESCRIPTION:USCCA Class at the Marion County Event Center & Sportsplex\nJul
 y 25th\, 2025 @ 6:00 pm
ATTACH;FMTTYPE=image/jpeg:https://visitlebanonky.com/wp-content/uploads/20
 25/07/uscca.jpg
CATEGORIES:Official
LOCATION:Marion County Event Center and Sportsplex\, 101 Independence Drive
  \, LEBANON\, KY\, 40033\, Marion County\, United States
X-APPLE-STRUCTURED-LOCATION;VALUE=URI;X-ADDRESS=101 Independence Drive \, L
 EBANON\, KY\, 40033\, Marion County\, United States;X-APPLE-RADIUS=100;X-T
 ITLE=Marion County Event Center and Sportsplex:geo:0,0
END:VEVENT
BEGIN:VTIMEZONE
TZID:America/Kentucky/Louisville
X-LIC-LOCATION:America/Kentucky/Louisville
BEGIN:DAYLIGHT
DTSTART:20250309T030000
TZOFFSETFROM:-0500
TZOFFSETTO:-0400
TZNAME:EDT
END:DAYLIGHT
END:VTIMEZONE
END:VCALENDAR