BEGIN:VCALENDAR
VERSION:2.0
PRODID:-//wp-events-plugin.com//7.2.3.1//EN
BEGIN:VEVENT
UID:7567@visitlebanonky.com
DTSTART;TZID=America/Kentucky/Louisville:20250602T173000
DTEND;TZID=America/Kentucky/Louisville:20250606T200000
DTSTAMP:20250508T003830Z
URL:https://visitlebanonky.com/events/vacation-bible-school-2/
SUMMARY:Vacation Bible School
DESCRIPTION:Lebanon Baptist Church will be holding "Magnified" Vacation Bib
 le School on June 2\, 2025 through June 6\, 2025. It will be from 5:30 til
 l 8 p.m. nightly. There will be a meal each night. Any questions or for mo
 re information you can call 270-692-3031 or follow on Facebook at https://
 www.facebook.com/lebanonbaptistky
ATTACH;FMTTYPE=image/jpeg:https://visitlebanonky.com/wp-content/uploads/20
 25/05/lebanon-baptist.jpg
CATEGORIES:Community
LOCATION:Lebanon Baptist Church\, 144 E. Mulberry St.\, Lebanon\, Kentucky\
 , 40033\, Marion County\, United States
X-APPLE-STRUCTURED-LOCATION;VALUE=URI;X-ADDRESS=144 E. Mulberry St.\, Leban
 on\, Kentucky\, 40033\, Marion County\, United States;X-APPLE-RADIUS=100;X
 -TITLE=Lebanon Baptist Church:geo:0,0
END:VEVENT
BEGIN:VTIMEZONE
TZID:America/Kentucky/Louisville
X-LIC-LOCATION:America/Kentucky/Louisville
BEGIN:DAYLIGHT
DTSTART:20250309T030000
TZOFFSETFROM:-0500
TZOFFSETTO:-0400
TZNAME:EDT
END:DAYLIGHT
END:VTIMEZONE
END:VCALENDAR