BEGIN:VCALENDAR
VERSION:2.0
PRODID:-//wp-events-plugin.com//7.2.3.1//EN
BEGIN:VEVENT
UID:7568@visitlebanonky.com
DTSTART;TZID=America/Kentucky/Louisville:20250609T180000
DTEND;TZID=America/Kentucky/Louisville:20250613T200000
DTSTAMP:20250507T201129Z
URL:https://visitlebanonky.com/events/vacation-bible-school-3/
SUMMARY:Vacation Bible School
DESCRIPTION:Grace Baptist Church will be holding Vacation Bible School "Jes
 us Is Our True North" on June 9\, 2025 through June 13\, 2025. It will be 
 from 6 till 8 p.m. nightly. Any questions or for more information you can 
 contact Jennifer or Brenda Hays or follow on Facebook at  https://www.face
 book.com/profile.php?id=100064518349781
ATTACH;FMTTYPE=image/jpeg:https://visitlebanonky.com/wp-content/uploads/20
 25/05/GRACE-BAPTIST.jpg
CATEGORIES:Community
LOCATION:Grace Baptist Church\, 350 East Main Street\, Lebanon\, Kentucky\,
  40033\, Marion County\, United States
GEO:37.571724;-85.246915
X-APPLE-STRUCTURED-LOCATION;VALUE=URI;X-ADDRESS=350 East Main Street\, Leba
 non\, Kentucky\, 40033\, Marion County\, United States;X-APPLE-RADIUS=100;
 X-TITLE=Grace Baptist Church:geo:37.571724,-85.246915
END:VEVENT
BEGIN:VTIMEZONE
TZID:America/Kentucky/Louisville
X-LIC-LOCATION:America/Kentucky/Louisville
BEGIN:DAYLIGHT
DTSTART:20250309T030000
TZOFFSETFROM:-0500
TZOFFSETTO:-0400
TZNAME:EDT
END:DAYLIGHT
END:VTIMEZONE
END:VCALENDAR