BEGIN:VCALENDAR
VERSION:2.0
PRODID:-//wp-events-plugin.com//7.2.3.1//EN
BEGIN:VEVENT
UID:7570@visitlebanonky.com
DTSTART;TZID=America/Kentucky/Louisville:20250707T180000
DTEND;TZID=America/Kentucky/Louisville:20250711T200000
DTSTAMP:20250507T212323Z
URL:https://visitlebanonky.com/events/vacation-bible-school-4/
SUMMARY:Vacation Bible School
DESCRIPTION:Join Lebanon Methodist Church at VBS this year on July 7-11 fro
 m 6 till 8 p.m. nightly. Rotations for K-12 that includes crafts\, Bible l
 esson\, games\, and food! Adults will also have a class and be able to eat
 ! PREREGISTER NOW!!!! You can find on Facebook at https://www.facebook.com
 /LebanonMethodist \n \nhttps://visitlebanonky.com/wp-admin/edit.php?post_t
 ype=event
ATTACH;FMTTYPE=image/jpeg:https://visitlebanonky.com/wp-content/uploads/20
 25/05/methodist.jpg
CATEGORIES:Community
LOCATION:Lebanon Methodist Church\, 236 N Spalding Avenue \, Lebanon\, Kent
 ucky\, 40033\, Marion County\, United States
GEO:37.572108;-85.253871
X-APPLE-STRUCTURED-LOCATION;VALUE=URI;X-ADDRESS=236 N Spalding Avenue \, Le
 banon\, Kentucky\, 40033\, Marion County\, United States;X-APPLE-RADIUS=10
 0;X-TITLE=Lebanon Methodist Church:geo:37.572108,-85.253871
END:VEVENT
BEGIN:VTIMEZONE
TZID:America/Kentucky/Louisville
X-LIC-LOCATION:America/Kentucky/Louisville
BEGIN:DAYLIGHT
DTSTART:20250309T030000
TZOFFSETFROM:-0500
TZOFFSETTO:-0400
TZNAME:EDT
END:DAYLIGHT
END:VTIMEZONE
END:VCALENDAR