BEGIN:VCALENDAR
VERSION:2.0
PRODID:-//wp-events-plugin.com//7.2.3.1//EN
BEGIN:VEVENT
UID:7579@visitlebanonky.com
DTSTART;TZID=America/Kentucky/Louisville:20250616T173000
DTEND;TZID=America/Kentucky/Louisville:20250620T200000
DTSTAMP:20250508T003748Z
URL:https://visitlebanonky.com/events/vacation-bible-school-5/
SUMMARY:Vacation Bible School
DESCRIPTION:Join Bradfordsville Baptist for Vacation Bible School "Magnifie
 d" June 16-20. It will be classes for nursery through 12th grade. Friday J
 une 20 will be commencement and family night. A meal is served each night 
 before Bible School starts at 5:30 p.m. Classes will be 6-8 p.m.
ATTACH;FMTTYPE=image/jpeg:https://visitlebanonky.com/wp-content/uploads/20
 25/05/bville-baptist.jpg
CATEGORIES:Community
LOCATION:Bradfordsville Baptist Church\, 405 W Main St\, Bradfordsville\, K
 entucky\, 40009\, Marion County\, United States
X-APPLE-STRUCTURED-LOCATION;VALUE=URI;X-ADDRESS=405 W Main St\, Bradfordsvi
 lle\, Kentucky\, 40009\, Marion County\, United States;X-APPLE-RADIUS=100;
 X-TITLE=Bradfordsville Baptist Church:geo:0,0
END:VEVENT
BEGIN:VTIMEZONE
TZID:America/Kentucky/Louisville
X-LIC-LOCATION:America/Kentucky/Louisville
BEGIN:DAYLIGHT
DTSTART:20250309T030000
TZOFFSETFROM:-0500
TZOFFSETTO:-0400
TZNAME:EDT
END:DAYLIGHT
END:VTIMEZONE
END:VCALENDAR