BEGIN:VCALENDAR
VERSION:2.0
PRODID:-//wp-events-plugin.com//7.2.3.1//EN
BEGIN:VEVENT
UID:7593@visitlebanonky.com
DTSTART;TZID=America/Kentucky/Louisville:20250622T173000
DTEND;TZID=America/Kentucky/Louisville:20250627T200000
DTSTAMP:20250508T164640Z
URL:https://visitlebanonky.com/events/vacation-bible-school-6/
SUMMARY:Vacation Bible School
DESCRIPTION:Muldraugh Hill Baptist Church will be holding "Magnified" Vacat
 ion Bible School on June 22\, 2025 through June 27\, 2025. It will be from
  5:30 till 8 p.m. nightly. You can follow on Facebook at https://www.faceb
 ook.com/MuldraughHillBaptistChurch\n\n
ATTACH;FMTTYPE=image/jpeg:https://visitlebanonky.com/wp-content/uploads/20
 25/05/muldraugh-hill.jpg
CATEGORIES:Community
LOCATION:Muldraugh Hill Baptist Church\, 4430 Highway 289\, Lebanon\, Kentu
 cky\, 40033\, Marion County\, United States
GEO:37.474947;-85.329265
X-APPLE-STRUCTURED-LOCATION;VALUE=URI;X-ADDRESS=4430 Highway 289\, Lebanon\
 , Kentucky\, 40033\, Marion County\, United States;X-APPLE-RADIUS=100;X-TI
 TLE=Muldraugh Hill Baptist Church:geo:37.474947,-85.329265
END:VEVENT
BEGIN:VTIMEZONE
TZID:America/Kentucky/Louisville
X-LIC-LOCATION:America/Kentucky/Louisville
BEGIN:DAYLIGHT
DTSTART:20250309T030000
TZOFFSETFROM:-0500
TZOFFSETTO:-0400
TZNAME:EDT
END:DAYLIGHT
END:VTIMEZONE
END:VCALENDAR